BEGIN:VCALENDAR
VERSION:2.0
PRODID:-//American Cinema Editors | ACE - ECPv6.15.20//NONSGML v1.0//EN
CALSCALE:GREGORIAN
METHOD:PUBLISH
X-WR-CALNAME:American Cinema Editors | ACE
X-ORIGINAL-URL:https://americancinemaeditors.org
X-WR-CALDESC:Events for American Cinema Editors | ACE
REFRESH-INTERVAL;VALUE=DURATION:PT1H
X-Robots-Tag:noindex
X-PUBLISHED-TTL:PT1H
BEGIN:VTIMEZONE
TZID:America/Los_Angeles
BEGIN:DAYLIGHT
TZOFFSETFROM:-0800
TZOFFSETTO:-0700
TZNAME:PDT
DTSTART:20240310T100000
END:DAYLIGHT
BEGIN:STANDARD
TZOFFSETFROM:-0700
TZOFFSETTO:-0800
TZNAME:PST
DTSTART:20241103T090000
END:STANDARD
BEGIN:DAYLIGHT
TZOFFSETFROM:-0800
TZOFFSETTO:-0700
TZNAME:PDT
DTSTART:20250309T100000
END:DAYLIGHT
BEGIN:STANDARD
TZOFFSETFROM:-0700
TZOFFSETTO:-0800
TZNAME:PST
DTSTART:20251102T090000
END:STANDARD
BEGIN:DAYLIGHT
TZOFFSETFROM:-0800
TZOFFSETTO:-0700
TZNAME:PDT
DTSTART:20260308T100000
END:DAYLIGHT
BEGIN:STANDARD
TZOFFSETFROM:-0700
TZOFFSETTO:-0800
TZNAME:PST
DTSTART:20261101T090000
END:STANDARD
END:VTIMEZONE
BEGIN:VEVENT
DTSTART;TZID=America/Los_Angeles:20251210T113000
DTEND;TZID=America/Los_Angeles:20251210T123000
DTSTAMP:20260425T155639
CREATED:20251205T172039Z
LAST-MODIFIED:20251205T172039Z
UID:10000373-1765366200-1765369800@americancinemaeditors.org
SUMMARY:Virtual Glass of Wine (VGOW): Editors in Conversation with Myron Kerstein\, ACE (Zoom Event)
DESCRIPTION:
URL:https://americancinemaeditors.org/event/virtual-glass-of-wine-vgow-editors-in-conversation-with-myron-kerstein-ace-zoom-event/
LOCATION:Zoom/Online\, see event description for link details\, CA\, United States
CATEGORIES:Members Only,Panel/Q&A/Interview,Zoom/Online
ATTACH;FMTTYPE=image/jpeg:https://americancinemaeditors.org/wp-content/uploads/2025/12/Wicked-VGOW.jpg
END:VEVENT
BEGIN:VEVENT
DTSTART;TZID=America/Los_Angeles:20251209T113000
DTEND;TZID=America/Los_Angeles:20251209T123000
DTSTAMP:20260425T155639
CREATED:20251205T171707Z
LAST-MODIFIED:20251205T171707Z
UID:10000372-1765279800-1765283400@americancinemaeditors.org
SUMMARY:Virtual Glass of Wine (VGOW): Editors in Conversation with Jacob Secher Schulsinger (Zoom Event)
DESCRIPTION:
URL:https://americancinemaeditors.org/event/virtual-glass-of-wine-vgow-editors-in-conversation-with-jacob-secher-schulsinger-zoom-event/
LOCATION:Zoom/Online\, see event description for link details\, CA\, United States
CATEGORIES:Members Only,Panel/Q&A/Interview,Zoom/Online
ATTACH;FMTTYPE=image/jpeg:https://americancinemaeditors.org/wp-content/uploads/2025/12/Hedda-VGOW.jpg
END:VEVENT
BEGIN:VEVENT
DTSTART;TZID=America/Los_Angeles:20251208T170000
DTEND;TZID=America/Los_Angeles:20251208T180000
DTSTAMP:20260425T155639
CREATED:20251203T162053Z
LAST-MODIFIED:20251203T162053Z
UID:10000369-1765213200-1765216800@americancinemaeditors.org
SUMMARY:Q&Agency (FKA Picturehouse 441) Wicked: For Good Q&A with Alice Brooks\, ASC & Editor Myron Kerstein\, ACE (Zoom Event)
DESCRIPTION:
URL:https://americancinemaeditors.org/event/qagency-fka-picturehouse-441-wicked-for-good-qa-with-alice-brooks-asc-editor-myron-kerstein-ace-zoom-event/
LOCATION:Zoom/Online\, see event description for link details\, CA\, United States
CATEGORIES:Members Only,Panel/Q&A/Interview,Zoom/Online
ATTACH;FMTTYPE=image/jpeg:https://americancinemaeditors.org/wp-content/uploads/2025/12/QAACE-Wicked-2-copy.jpg
END:VEVENT
BEGIN:VEVENT
DTSTART;TZID=America/Los_Angeles:20251125T113000
DTEND;TZID=America/Los_Angeles:20251125T123000
DTSTAMP:20260425T155639
CREATED:20251117T155159Z
LAST-MODIFIED:20251117T155159Z
UID:10000364-1764070200-1764073800@americancinemaeditors.org
SUMMARY:Virtual Glass of Wine (VGOW): Mistress Dispeller (Zoom Event)
DESCRIPTION:
URL:https://americancinemaeditors.org/event/virtual-glass-of-wine-vgow-mistress-dispeller-zoom-event/
LOCATION:Zoom/Online\, see event description for link details\, CA\, United States
CATEGORIES:Members Only,Panel/Q&A/Interview,Zoom/Online
ATTACH;FMTTYPE=image/jpeg:https://americancinemaeditors.org/wp-content/uploads/2025/11/VGOW-Mistress-Dispeller.jpg
END:VEVENT
BEGIN:VEVENT
DTSTART;TZID=America/Los_Angeles:20251114T113000
DTEND;TZID=America/Los_Angeles:20251114T123000
DTSTAMP:20260425T155639
CREATED:20251110T154424Z
LAST-MODIFIED:20251110T154424Z
UID:10000363-1763119800-1763123400@americancinemaeditors.org
SUMMARY:Virtual Glass of Wine with Editor Evan Schiff\, ACE (ACE Members Only - Zoom Event)
DESCRIPTION:
URL:https://americancinemaeditors.org/event/virtual-glass-of-wine-with-editor-evan-schiff-ace-ace-members-only-zoom-event/
LOCATION:Zoom/Online\, see event description for link details\, CA\, United States
CATEGORIES:Members Only,Panel/Q&A/Interview,Zoom/Online
ATTACH;FMTTYPE=image/jpeg:https://americancinemaeditors.org/wp-content/uploads/2025/11/VGOW-Frankenstein-2.jpg
END:VEVENT
BEGIN:VEVENT
DTSTART;TZID=America/Los_Angeles:20251105T170000
DTEND;TZID=America/Los_Angeles:20251105T180000
DTSTAMP:20260425T155639
CREATED:20251027T204503Z
LAST-MODIFIED:20251027T204748Z
UID:10000356-1762362000-1762365600@americancinemaeditors.org
SUMMARY:Q&Agency (FKA Picturehouse 441) Peggy Sue Got Married Q&A with Actor Kathleen Turner (Zoom Event)
DESCRIPTION:
URL:https://americancinemaeditors.org/event/qagency-fka-picturehouse-441-peggy-sue-got-married-qa-with-actor-kathleen-turner-zoom-event/
LOCATION:Zoom/Online\, see event description for link details\, CA\, United States
CATEGORIES:Members Only,Panel/Q&A/Interview,Zoom/Online
ATTACH;FMTTYPE=image/jpeg:https://americancinemaeditors.org/wp-content/uploads/2025/10/QAACE-Peggy-Sue-copy.jpg
END:VEVENT
BEGIN:VEVENT
DTSTART;TZID=America/Los_Angeles:20251104T120000
DTEND;TZID=America/Los_Angeles:20251104T130000
DTSTAMP:20260425T155639
CREATED:20251027T205816Z
LAST-MODIFIED:20251027T205816Z
UID:10000357-1762257600-1762261200@americancinemaeditors.org
SUMMARY:The Q&Agency (FKA Picturehouse 441) Q&A with the Post Production Team of The Lost Bus (Zoom Event)
DESCRIPTION:
URL:https://americancinemaeditors.org/event/the-qagency-fka-picturehouse-441-qa-with-the-post-production-team-of-the-lost-bus-zoom-event/
LOCATION:Zoom/Online\, see event description for link details\, CA\, United States
CATEGORIES:Members Only,Panel/Q&A/Interview,Zoom/Online
ATTACH;FMTTYPE=image/jpeg:https://americancinemaeditors.org/wp-content/uploads/2025/10/QAACE-Lost-Bus2.jpg
END:VEVENT
BEGIN:VEVENT
DTSTART;TZID=America/Los_Angeles:20251102T130000
DTEND;TZID=America/Los_Angeles:20251102T140000
DTSTAMP:20260425T155639
CREATED:20251023T195007Z
LAST-MODIFIED:20251023T195007Z
UID:10000355-1762088400-1762092000@americancinemaeditors.org
SUMMARY:Q&Agency (FKA Picturehouse 441) Tron: Ares Q&A w / Cinematographer Jeff Cronenweth\, ASC; Production VFX Supervisor David Seager; Sound Designer/Supervising Sound Editor\, Addison Teague (Zoom Event)
DESCRIPTION:
URL:https://americancinemaeditors.org/event/q-production-vfx-supervisor-david-seager-sound-designer-supervising-sound-editor-addison-teague-zoom-event/
LOCATION:Zoom/Online\, see event description for link details\, CA\, United States
ATTACH;FMTTYPE=image/jpeg:https://americancinemaeditors.org/wp-content/uploads/2025/10/QAACE-Tron-Ares-.jpg
END:VEVENT
BEGIN:VEVENT
DTSTART;TZID=America/Los_Angeles:20251030T170000
DTEND;TZID=America/Los_Angeles:20251030T180000
DTSTAMP:20260425T155639
CREATED:20251020T220538Z
LAST-MODIFIED:20251020T220538Z
UID:10000351-1761843600-1761847200@americancinemaeditors.org
SUMMARY:SSS (Sight\, Sound & Story) - Halloween Edition II: Cutting Chaos\, Crime & Cult Classics (Zoom Event)
DESCRIPTION:
URL:https://americancinemaeditors.org/event/sss-sight-sound-story-halloween-edition-ii-cutting-chaos-crime-cult-classics-zoom-event/
LOCATION:Zoom/Online\, see event description for link details\, CA\, United States
CATEGORIES:Members Only,Panel/Q&A/Interview,Zoom/Online
ATTACH;FMTTYPE=image/jpeg:https://americancinemaeditors.org/wp-content/uploads/2025/10/SSS-Halloween-Panel-2025.jpg
END:VEVENT
BEGIN:VEVENT
DTSTART;TZID=America/Los_Angeles:20251029T113000
DTEND;TZID=America/Los_Angeles:20251029T123000
DTSTAMP:20260425T155639
CREATED:20251020T220841Z
LAST-MODIFIED:20251020T220841Z
UID:10000352-1761737400-1761741000@americancinemaeditors.org
SUMMARY:Virtual Glass of Wine (VGOW) Editors in Conversation: Dept. Q (Zoom Event)
DESCRIPTION:
URL:https://americancinemaeditors.org/event/virtual-glass-of-wine-vgow-editors-in-conversation-dept-q-zoom-event/
LOCATION:Zoom/Online\, see event description for link details\, CA\, United States
CATEGORIES:Members Only,Panel/Q&A/Interview,Zoom/Online
ATTACH;FMTTYPE=image/jpeg:https://americancinemaeditors.org/wp-content/uploads/2025/10/VGOW-Dept-Q.jpg
END:VEVENT
BEGIN:VEVENT
DTSTART;TZID=America/Los_Angeles:20251023T170000
DTEND;TZID=America/Los_Angeles:20251023T180000
DTSTAMP:20260425T155639
CREATED:20251017T203401Z
LAST-MODIFIED:20251017T203401Z
UID:10000350-1761238800-1761242400@americancinemaeditors.org
SUMMARY:A Nightmare on Elm Street 2: Freddy's Revenge Q&A with Director Jack Sholder (Zoom Event)
DESCRIPTION:
URL:https://americancinemaeditors.org/event/a-nightmare-on-elm-street-2-freddys-revenge-qa-with-director-jack-sholder-zoom-event/
LOCATION:Zoom/Online\, see event description for link details\, CA\, United States
CATEGORIES:Members Only,Panel/Q&A/Interview,Zoom/Online
ATTACH;FMTTYPE=image/jpeg:https://americancinemaeditors.org/wp-content/uploads/2025/10/Picturehouse-ACE-NIghtmare-2.jpg
ORGANIZER;CN="Picturehouse 441":MAILTO:joshua@picturehouse441.com
END:VEVENT
BEGIN:VEVENT
DTSTART;TZID=America/Los_Angeles:20251022T113000
DTEND;TZID=America/Los_Angeles:20251022T123000
DTSTAMP:20260425T155639
CREATED:20251020T221221Z
LAST-MODIFIED:20251020T221221Z
UID:10000353-1761132600-1761136200@americancinemaeditors.org
SUMMARY:Virtual Glass of Wine (VGOW) Editors in Conversation: The Perfect Neighbour (Zoom Event)
DESCRIPTION:
URL:https://americancinemaeditors.org/event/virtual-glass-of-wine-vgow-editors-in-conversation-the-perfect-neighbour-zoom-event/
LOCATION:Zoom/Online\, see event description for link details\, CA\, United States
CATEGORIES:Members Only,Panel/Q&A/Interview,Zoom/Online
ATTACH;FMTTYPE=image/jpeg:https://americancinemaeditors.org/wp-content/uploads/2025/10/VGOW-Perfect-Neighbour.jpg
END:VEVENT
BEGIN:VEVENT
DTSTART;TZID=America/Los_Angeles:20251016T170000
DTEND;TZID=America/Los_Angeles:20251016T180000
DTSTAMP:20260425T155639
CREATED:20250930T205405Z
LAST-MODIFIED:20250930T205405Z
UID:10000346-1760634000-1760637600@americancinemaeditors.org
SUMMARY:Sight\, Sound & Story Halloween Edition I - Cutting Horror and Dark Comedy (Zoom Event)
DESCRIPTION:
URL:https://americancinemaeditors.org/event/sight-sound-story-halloween-edition-i-cutting-horror-and-dark-comedy-zoom-event/
LOCATION:Zoom/Online\, see event description for link details\, CA\, United States
CATEGORIES:Members Only,Panel/Q&A/Interview,Zoom/Online
ATTACH;FMTTYPE=image/jpeg:https://americancinemaeditors.org/wp-content/uploads/2025/09/SSS-Halloween-1.jpg
END:VEVENT
BEGIN:VEVENT
DTSTART;TZID=America/Los_Angeles:20251008T113000
DTEND;TZID=America/Los_Angeles:20251008T123000
DTSTAMP:20260425T155639
CREATED:20250930T204952Z
LAST-MODIFIED:20250930T204952Z
UID:10000345-1759923000-1759926600@americancinemaeditors.org
SUMMARY:Virtual Glass of Wine (VGOW) Editors in Conversation: It’s Never Over\, Jeff Buckley (Zoom Event)
DESCRIPTION:
URL:https://americancinemaeditors.org/event/virtual-glass-of-wine-vgow-editors-in-conversation-its-never-over-jeff-buckley-zoom-event/
LOCATION:Zoom/Online\, see event description for link details\, CA\, United States
CATEGORIES:Members Only,Panel/Q&A/Interview,Zoom/Online
ATTACH;FMTTYPE=image/jpeg:https://americancinemaeditors.org/wp-content/uploads/2025/09/VGOW-Jeff-Buckley.jpg
END:VEVENT
BEGIN:VEVENT
DTSTART;TZID=America/Los_Angeles:20251007T113000
DTEND;TZID=America/Los_Angeles:20251007T123000
DTSTAMP:20260425T155639
CREATED:20250930T204517Z
LAST-MODIFIED:20250930T204517Z
UID:10000344-1759836600-1759840200@americancinemaeditors.org
SUMMARY:Virtual Glass of Wine (VGOW) Editors in Conversation: Apocalypse in the Tropics (Zoom event)
DESCRIPTION:
URL:https://americancinemaeditors.org/event/virtual-glass-of-wine-vgow-editors-in-conversation-apocalypse-in-the-tropics-zoom-event/
LOCATION:Zoom/Online\, see event description for link details\, CA\, United States
CATEGORIES:Members Only,Panel/Q&A/Interview,Zoom/Online
ATTACH;FMTTYPE=image/jpeg:https://americancinemaeditors.org/wp-content/uploads/2025/09/VGOW-ApocalypseTropics.jpg
END:VEVENT
BEGIN:VEVENT
DTSTART;VALUE=DATE:20251004
DTEND;VALUE=DATE:20251005
DTSTAMP:20260425T155639
CREATED:20250625T201443Z
LAST-MODIFIED:20250930T203456Z
UID:10000321-1759536000-1759622399@americancinemaeditors.org
SUMMARY:EditFest Global (Virtual Event)
DESCRIPTION:
URL:https://americancinemaeditors.org/event/editfest-global-virtual-event/
LOCATION:Zoom/Online\, see event description for link details\, CA\, United States
CATEGORIES:EditFest,Members Only,Panel/Q&A/Interview,Zoom/Online
ATTACH;FMTTYPE=image/jpeg:https://americancinemaeditors.org/wp-content/uploads/2025/06/EF2025_SQ_Global.jpg
END:VEVENT
BEGIN:VEVENT
DTSTART;TZID=America/Los_Angeles:20250925T130000
DTEND;TZID=America/Los_Angeles:20250925T140000
DTSTAMP:20260425T155639
CREATED:20250922T165519Z
LAST-MODIFIED:20250922T165519Z
UID:10000342-1758805200-1758808800@americancinemaeditors.org
SUMMARY:PNYA "Post break" Podcast:  Advanced AE Turnover Techniques (Zoom Event)
DESCRIPTION:
URL:https://americancinemaeditors.org/event/pnya-post-break-podcast-advanced-ae-turnover-techniques-zoom-event/
LOCATION:Zoom/Online\, see event description for link details\, CA\, United States
CATEGORIES:Members Only,Panel/Q&A/Interview,Zoom/Online
ATTACH;FMTTYPE=image/jpeg:https://americancinemaeditors.org/wp-content/uploads/2025/09/PNYA-Advanced-AE.jpg
END:VEVENT
BEGIN:VEVENT
DTSTART;TZID=America/Los_Angeles:20250909T180000
DTEND;TZID=America/Los_Angeles:20250909T190000
DTSTAMP:20260425T155639
CREATED:20250826T210225Z
LAST-MODIFIED:20250826T210225Z
UID:10000336-1757440800-1757444400@americancinemaeditors.org
SUMMARY:MPTF: Please Join Us for an Estate Planning Webinar (Zoom Event)
DESCRIPTION:
URL:https://americancinemaeditors.org/event/mptf-please-join-us-for-an-estate-planning-webinar-zoom-event/
LOCATION:Zoom/Online\, see event description for link details\, CA\, United States
CATEGORIES:Members Only,Workshop/Seminar,Zoom/Online
ATTACH;FMTTYPE=image/jpeg:https://americancinemaeditors.org/wp-content/uploads/2025/08/MPTF-Estate-Sq.jpg
END:VEVENT
BEGIN:VEVENT
DTSTART;TZID=America/Los_Angeles:20250902T113000
DTEND;TZID=America/Los_Angeles:20250902T123000
DTSTAMP:20260425T155639
CREATED:20250826T193856Z
LAST-MODIFIED:20250826T193856Z
UID:10000335-1756812600-1756816200@americancinemaeditors.org
SUMMARY:Rogue One: A Star Wars Story Q&A with Cinematographer Greig Fraser\, ACS\, ASC (Zoom Event)
DESCRIPTION:
URL:https://americancinemaeditors.org/event/rogue-one-a-star-wars-story-qa-with-cinematographer-greig-fraser-acs-asc-zoom-event/
LOCATION:Zoom/Online\, see event description for link details\, CA\, United States
CATEGORIES:Members Only,Panel/Q&A/Interview,Zoom/Online
ATTACH;FMTTYPE=image/jpeg:https://americancinemaeditors.org/wp-content/uploads/2025/08/Picturehouse-ACE-Rogue-One.jpg
ORGANIZER;CN="Picturehouse 441":MAILTO:joshua@picturehouse441.com
END:VEVENT
BEGIN:VEVENT
DTSTART;TZID=America/Los_Angeles:20250824T170000
DTEND;TZID=America/Los_Angeles:20250824T180000
DTSTAMP:20260425T155639
CREATED:20250818T143831Z
LAST-MODIFIED:20250818T143831Z
UID:10000334-1756054800-1756058400@americancinemaeditors.org
SUMMARY:Welcome to Wrexham (Season 3) and Chimp Crazy Q&A (Zoom Event)
DESCRIPTION:
URL:https://americancinemaeditors.org/event/welcome-to-wrexham-season-3-and-chimp-crazy-qa-zoom-event/
LOCATION:Zoom/Online\, see event description for link details\, CA\, United States
CATEGORIES:Members Only,Panel/Q&A/Interview,Zoom/Online
ATTACH;FMTTYPE=image/jpeg:https://americancinemaeditors.org/wp-content/uploads/2025/08/Picturehouse-ACE-Chimp-Wrexham-2.jpg
ORGANIZER;CN="Picturehouse 441":MAILTO:joshua@picturehouse441.com
END:VEVENT
BEGIN:VEVENT
DTSTART;TZID=America/Los_Angeles:20250824T160000
DTEND;TZID=America/Los_Angeles:20250824T170000
DTSTAMP:20260425T155639
CREATED:20250526T180926Z
LAST-MODIFIED:20250526T180927Z
UID:10000306-1756051200-1756054800@americancinemaeditors.org
SUMMARY:ACE Connect Support Committee - Summer of Support Sundays: Transforming Procrastination into Self-Motivation (Session 6 / Online)
DESCRIPTION:
URL:https://americancinemaeditors.org/event/ace-connect-support-committee-summer-of-support-sundays-transforming-procrastination-into-self-motivation-session-6-online/
LOCATION:Zoom/Online\, see event description for link details\, CA\, United States
CATEGORIES:Meetings,Zoom/Online
ATTACH;FMTTYPE=image/jpeg:https://americancinemaeditors.org/wp-content/uploads/2025/05/Summer-of-Support-Icon.jpg
END:VEVENT
BEGIN:VEVENT
DTSTART;TZID=America/Los_Angeles:20250819T170000
DTEND;TZID=America/Los_Angeles:20250819T180000
DTSTAMP:20260425T155639
CREATED:20250818T143327Z
LAST-MODIFIED:20250818T143327Z
UID:10000333-1755622800-1755626400@americancinemaeditors.org
SUMMARY:The Pitt Q&A with Director/Co-Executive Producer Amanda Marsalis & Editor Mark Strand\, ACE (Zoom Event)
DESCRIPTION:
URL:https://americancinemaeditors.org/event/the-pitt-qa-with-director-co-executive-producer-amanda-marsalis-editor-mark-strand-ace-zoom-event/
LOCATION:Zoom/Online\, see event description for link details\, CA\, United States
CATEGORIES:Members Only,Panel/Q&A/Interview,Zoom/Online
ATTACH;FMTTYPE=image/jpeg:https://americancinemaeditors.org/wp-content/uploads/2025/08/Picturehouse-ACE-The-Pitt-copy.jpg
ORGANIZER;CN="Picturehouse 441":MAILTO:joshua@picturehouse441.com
END:VEVENT
BEGIN:VEVENT
DTSTART;TZID=America/Los_Angeles:20250818T170000
DTEND;TZID=America/Los_Angeles:20250818T180000
DTSTAMP:20260425T155639
CREATED:20250807T201414Z
LAST-MODIFIED:20250807T201414Z
UID:10000331-1755536400-1755540000@americancinemaeditors.org
SUMMARY:Will & Harper Q&A with Editor Monique Zavistovski\, ACE & additional Editor Lori Lovoy-Goranas (Zoom Event)
DESCRIPTION:
URL:https://americancinemaeditors.org/event/will-harper-qa-with-editor-monique-zavistovski-ace-additional-editor-lori-lovoy-goranas-zoom-event/
LOCATION:Zoom/Online\, see event description for link details\, CA\, United States
CATEGORIES:Members Only,Panel/Q&A/Interview,Zoom/Online
ATTACH;FMTTYPE=image/jpeg:https://americancinemaeditors.org/wp-content/uploads/2025/08/Picturehouse-ACE-Will-Harper-2.jpg
ORGANIZER;CN="Picturehouse 441":MAILTO:joshua@picturehouse441.com
END:VEVENT
BEGIN:VEVENT
DTSTART;TZID=America/Los_Angeles:20250814T150000
DTEND;TZID=America/Los_Angeles:20250814T160000
DTSTAMP:20260425T155639
CREATED:20250804T214731Z
LAST-MODIFIED:20250804T214731Z
UID:10000330-1755183600-1755187200@americancinemaeditors.org
SUMMARY:Monsters: The Lyle and Erik Menendez Story Q&A with Editor Peggy Tachdjian\, ACE (Zoom Event)
DESCRIPTION:
URL:https://americancinemaeditors.org/event/monsters-the-lyle-and-erik-menendez-story-qa-with-editor-peggy-tachdjian-ace-zoom-event/
LOCATION:Zoom/Online\, see event description for link details\, CA\, United States
CATEGORIES:Members Only,Panel/Q&A/Interview,Zoom/Online
ATTACH;FMTTYPE=image/jpeg:https://americancinemaeditors.org/wp-content/uploads/2025/08/Picturehouse-ACE-Monsters.jpg
END:VEVENT
BEGIN:VEVENT
DTSTART;TZID=America/Los_Angeles:20250813T120000
DTEND;TZID=America/Los_Angeles:20250813T130000
DTSTAMP:20260425T155639
CREATED:20250804T214154Z
LAST-MODIFIED:20250804T214154Z
UID:10000328-1755086400-1755090000@americancinemaeditors.org
SUMMARY:Mountainhead Q&A with Executive Producer/Writer/Director Jesse Armstrong & Editor Bill Henry\, ACE (Zoom Event)
DESCRIPTION:
URL:https://americancinemaeditors.org/event/mountainhead-qa-with-executive-producer-writer-director-jesse-armstrong-editor-bill-henry-ace-zoom-event/
LOCATION:Zoom/Online\, see event description for link details\, CA\, United States
CATEGORIES:Members Only,Panel/Q&A/Interview,Zoom/Online
ATTACH;FMTTYPE=image/jpeg:https://americancinemaeditors.org/wp-content/uploads/2025/08/Picturehouse-ACE-Mountainhead.jpg
ORGANIZER;CN="Picturehouse 441":MAILTO:joshua@picturehouse441.com
END:VEVENT
BEGIN:VEVENT
DTSTART;TZID=America/Los_Angeles:20250813T113000
DTEND;TZID=America/Los_Angeles:20250813T123000
DTSTAMP:20260425T155639
CREATED:20250811T134834Z
LAST-MODIFIED:20250811T134834Z
UID:10000332-1755084600-1755088200@americancinemaeditors.org
SUMMARY:Virtual Glass of Wine (VGOW) Editors in Conversation: Frasier (Zoom Event)
DESCRIPTION:
URL:https://americancinemaeditors.org/event/virtual-glass-of-wine-vgow-editors-in-conversation-frasier-zoom-event/
LOCATION:Zoom/Online\, see event description for link details\, CA\, United States
CATEGORIES:Members Only,Panel/Q&A/Interview,Zoom/Online
ATTACH;FMTTYPE=image/jpeg:https://americancinemaeditors.org/wp-content/uploads/2025/08/BFE-VGOW-Frasier.jpg
END:VEVENT
BEGIN:VEVENT
DTSTART;TZID=America/Los_Angeles:20250812T170000
DTEND;TZID=America/Los_Angeles:20250812T180000
DTSTAMP:20260425T155639
CREATED:20250804T214456Z
LAST-MODIFIED:20250804T214456Z
UID:10000329-1755018000-1755021600@americancinemaeditors.org
SUMMARY:The Last of Us (Season 2) Q&A with Editor Timothy Good\, ACE & Co-Creator/Executive Producer/Writer/Director Craig Mazin (Zoom Event)
DESCRIPTION:
URL:https://americancinemaeditors.org/event/the-last-of-us-season-2-qa-with-editor-timothy-good-ace-co-creator-executive-producer-writer-director-craig-mazin-zoom-event/
LOCATION:Zoom/Online\, see event description for link details\, CA\, United States
CATEGORIES:Members Only,Panel/Q&A/Interview,Zoom/Online
ATTACH;FMTTYPE=image/jpeg:https://americancinemaeditors.org/wp-content/uploads/2025/08/Picturehouse-ACE-Last-of-Us4.jpg
END:VEVENT
BEGIN:VEVENT
DTSTART;TZID=America/Los_Angeles:20250811T170000
DTEND;TZID=America/Los_Angeles:20250811T180000
DTSTAMP:20260425T155639
CREATED:20250730T232257Z
LAST-MODIFIED:20250730T232257Z
UID:10000327-1754931600-1754935200@americancinemaeditors.org
SUMMARY:Picturehouse 441 Q&A with Walter Murch\, ACE (Zoom Event)
DESCRIPTION:
URL:https://americancinemaeditors.org/event/picturehouse-441-qa-with-walter-murch-ace-zoom-event/
LOCATION:Zoom/Online\, see event description for link details\, CA\, United States
CATEGORIES:Members Only,Panel/Q&A/Interview,Zoom/Online
ATTACH;FMTTYPE=image/jpeg:https://americancinemaeditors.org/wp-content/uploads/2025/07/Picturehouse-ACE-Murch.jpg
ORGANIZER;CN="Picturehouse 441":MAILTO:joshua@picturehouse441.com
END:VEVENT
BEGIN:VEVENT
DTSTART;TZID=America/Los_Angeles:20250810T160000
DTEND;TZID=America/Los_Angeles:20250810T170000
DTSTAMP:20260425T155639
CREATED:20250526T180558Z
LAST-MODIFIED:20250526T180558Z
UID:10000304-1754841600-1754845200@americancinemaeditors.org
SUMMARY:ACE Connect Support Committee - Summer of Support Sundays: Releasing Anger + Resentment: Emotional Detox for Real Relief (Session 5 / Online)
DESCRIPTION:
URL:https://americancinemaeditors.org/event/ace-connect-support-committee-summer-of-support-sundays-releasing-anger-resentment-emotional-detox-for-real-relief-session-5-online/
LOCATION:Zoom/Online\, see event description for link details\, CA\, United States
CATEGORIES:Members Only,Zoom/Online
ATTACH;FMTTYPE=image/jpeg:https://americancinemaeditors.org/wp-content/uploads/2025/05/Summer-of-Support-Icon.jpg
END:VEVENT
BEGIN:VEVENT
DTSTART;TZID=America/Los_Angeles:20250727T160000
DTEND;TZID=America/Los_Angeles:20250727T170000
DTSTAMP:20260425T155639
CREATED:20250526T180140Z
LAST-MODIFIED:20250526T180140Z
UID:10000302-1753632000-1753635600@americancinemaeditors.org
SUMMARY:ACE Connect Support Committee - Summer of Support Sundays: Rewiring Your Response to Stress + Anxiety (Session 4 / Online)
DESCRIPTION:
URL:https://americancinemaeditors.org/event/ace-connect-support-committee-summer-of-support-sundays-rewiring-your-response-to-stress-anxiety-session-4-online/
LOCATION:Zoom/Online\, see event description for link details\, CA\, United States
CATEGORIES:Members Only,Zoom/Online
ATTACH;FMTTYPE=image/jpeg:https://americancinemaeditors.org/wp-content/uploads/2025/05/Summer-of-Support-Icon.jpg
END:VEVENT
END:VCALENDAR