BEGIN:VCALENDAR
VERSION:2.0
PRODID:-//American Cinema Editors | ACE - ECPv6.15.20//NONSGML v1.0//EN
CALSCALE:GREGORIAN
METHOD:PUBLISH
X-WR-CALNAME:American Cinema Editors | ACE
X-ORIGINAL-URL:https://americancinemaeditors.org
X-WR-CALDESC:Events for American Cinema Editors | ACE
REFRESH-INTERVAL;VALUE=DURATION:PT1H
X-Robots-Tag:noindex
X-PUBLISHED-TTL:PT1H
BEGIN:VTIMEZONE
TZID:America/Los_Angeles
BEGIN:DAYLIGHT
TZOFFSETFROM:-0800
TZOFFSETTO:-0700
TZNAME:PDT
DTSTART:20240310T100000
END:DAYLIGHT
BEGIN:STANDARD
TZOFFSETFROM:-0700
TZOFFSETTO:-0800
TZNAME:PST
DTSTART:20241103T090000
END:STANDARD
BEGIN:DAYLIGHT
TZOFFSETFROM:-0800
TZOFFSETTO:-0700
TZNAME:PDT
DTSTART:20250309T100000
END:DAYLIGHT
BEGIN:STANDARD
TZOFFSETFROM:-0700
TZOFFSETTO:-0800
TZNAME:PST
DTSTART:20251102T090000
END:STANDARD
BEGIN:DAYLIGHT
TZOFFSETFROM:-0800
TZOFFSETTO:-0700
TZNAME:PDT
DTSTART:20260308T100000
END:DAYLIGHT
BEGIN:STANDARD
TZOFFSETFROM:-0700
TZOFFSETTO:-0800
TZNAME:PST
DTSTART:20261101T090000
END:STANDARD
BEGIN:DAYLIGHT
TZOFFSETFROM:-0800
TZOFFSETTO:-0700
TZNAME:PDT
DTSTART:20270314T100000
END:DAYLIGHT
BEGIN:STANDARD
TZOFFSETFROM:-0700
TZOFFSETTO:-0800
TZNAME:PST
DTSTART:20271107T090000
END:STANDARD
END:VTIMEZONE
BEGIN:VEVENT
DTSTART;TZID=America/Los_Angeles:20260120T170000
DTEND;TZID=America/Los_Angeles:20260120T180000
DTSTAMP:20260425T120955
CREATED:20260113T193041Z
LAST-MODIFIED:20260113T193041Z
UID:10000402-1768928400-1768932000@americancinemaeditors.org
SUMMARY:Q&Agency (FKA Picturehouse 441) aka Charlie Sheen Q&A with Director/Producer Andrew Renzi & Editor Ed Greene\, ACE (Zoom Event)
DESCRIPTION:
URL:https://americancinemaeditors.org/event/qagency-fka-picturehouse-441-aka-charlie-sheen-qa-with-director-producer-andrew-renzi-editor-ed-greene-ace-zoom-event/
LOCATION:Zoom/Online\, see event description for link details\, CA\, United States
CATEGORIES:Members Only,Panel/Q&A/Interview,Zoom/Online
ATTACH;FMTTYPE=image/jpeg:https://americancinemaeditors.org/wp-content/uploads/2026/01/QAACE-aka-Charlie-Sheen.jpg
END:VEVENT
BEGIN:VEVENT
DTSTART;TZID=America/Los_Angeles:20260116T120000
DTEND;TZID=America/Los_Angeles:20260116T130000
DTSTAMP:20260425T120955
CREATED:20260108T190757Z
LAST-MODIFIED:20260108T190757Z
UID:10000396-1768564800-1768568400@americancinemaeditors.org
SUMMARY:Q&Agency (FKA Picturehouse 441) The Plague Q&A with Writer/Director Charlie Polinger & Producer Lucy McKendrick (Zoom Event)
DESCRIPTION:
URL:https://americancinemaeditors.org/event/qagency-fka-picturehouse-441-the-plague-qa-with-writer-director-charlie-polinger-producer-lucy-mckendrick-zoom-event/
LOCATION:Zoom/Online\, see event description for link details\, CA\, United States
CATEGORIES:Members Only,Panel/Q&A/Interview,Zoom/Online
ATTACH;FMTTYPE=image/jpeg:https://americancinemaeditors.org/wp-content/uploads/2026/01/QAACE-The-Plague.jpg
END:VEVENT
BEGIN:VEVENT
DTSTART;TZID=America/Los_Angeles:20260115T170000
DTEND;TZID=America/Los_Angeles:20260115T180000
DTSTAMP:20260425T120955
CREATED:20260106T214028Z
LAST-MODIFIED:20260106T214028Z
UID:10000395-1768496400-1768500000@americancinemaeditors.org
SUMMARY:Q&Agency (FKA Picturehouse 441) Being Eddie Q&A with Editor Will Znidaric\, ACE (Zoom Event)
DESCRIPTION:
URL:https://americancinemaeditors.org/event/qagency-fka-picturehouse-441-being-eddie-qa-with-editor-will-znidaric-ace-zoom-event/
LOCATION:Zoom/Online\, see event description for link details\, CA\, United States
CATEGORIES:Members Only,Panel/Q&A/Interview,Zoom/Online
ATTACH;FMTTYPE=image/jpeg:https://americancinemaeditors.org/wp-content/uploads/2026/01/QAACE-Being-Eddie-2.jpg
END:VEVENT
BEGIN:VEVENT
DTSTART;TZID=America/Los_Angeles:20260115T130000
DTEND;TZID=America/Los_Angeles:20260115T140000
DTSTAMP:20260425T120955
CREATED:20260108T191918Z
LAST-MODIFIED:20260108T191918Z
UID:10000397-1768482000-1768485600@americancinemaeditors.org
SUMMARY:Q&Agency (FKA Picturehouse 441) Sean Combs: The Reckoning Q&A  with Supervising Editor Evan Wise\, ACE and Editors Benji Kast\, ACE; Jon Miller\, Jack Gravina (Zoom Event)
DESCRIPTION:
URL:https://americancinemaeditors.org/event/q-jon-miller-jack-gravina-zoom-event/
LOCATION:Zoom/Online\, see event description for link details\, CA\, United States
CATEGORIES:Members Only,Panel/Q&A/Interview,Zoom/Online
ATTACH;FMTTYPE=image/png:https://americancinemaeditors.org/wp-content/uploads/2026/01/QAACE-Sean-Combs.png
END:VEVENT
BEGIN:VEVENT
DTSTART;TZID=America/Los_Angeles:20260114T120000
DTEND;TZID=America/Los_Angeles:20260114T130000
DTSTAMP:20260425T120955
CREATED:20260105T223403Z
LAST-MODIFIED:20260113T193152Z
UID:10000393-1768392000-1768395600@americancinemaeditors.org
SUMMARY:The Q&Agency (FKA Picturehouse 441) Sirāt Q&A with Director/Co-writer/Producer Oliver Laxe; Cinematographer Mauro Herce\, AEC; Sound Designer/Supervising Sound Editor Laia Casanovas (Zoom Event)
DESCRIPTION:
URL:https://americancinemaeditors.org/event/the-q-cinematographer-mauro-herce-aec-sound-designer-supervising-sound-editor-laia-casanovaszoom-event/
LOCATION:Zoom/Online\, see event description for link details\, CA\, United States
CATEGORIES:Members Only,Panel/Q&A/Interview,Zoom/Online
ATTACH;FMTTYPE=image/jpeg:https://americancinemaeditors.org/wp-content/uploads/2026/01/QAACE-Sirat.jpg
END:VEVENT
BEGIN:VEVENT
DTSTART;TZID=America/Los_Angeles:20260113T130000
DTEND;TZID=America/Los_Angeles:20260113T140000
DTSTAMP:20260425T120955
CREATED:20260105T222003Z
LAST-MODIFIED:20260105T222003Z
UID:10000392-1768309200-1768312800@americancinemaeditors.org
SUMMARY:Q&Agency (FKA Picturehouse 441) Hamnet Q&A with Editor Affonso Gonçalves\, ACE; Production Designer Fiona Crombie & Costume Designer Malgosia Turzanska (Zoom Event)
DESCRIPTION:
URL:https://americancinemaeditors.org/event/q-production-designer-fiona-crombie-costume-designer-malgosia-turzanska-zoom-event/
LOCATION:Zoom/Online\, see event description for link details\, CA\, United States
CATEGORIES:Members Only,Panel/Q&A/Interview,Zoom/Online
ATTACH;FMTTYPE=image/jpeg:https://americancinemaeditors.org/wp-content/uploads/2026/01/QAACE-Hamnet.jpg
END:VEVENT
BEGIN:VEVENT
DTSTART;TZID=America/Los_Angeles:20260113T113000
DTEND;TZID=America/Los_Angeles:20260113T123000
DTSTAMP:20260425T120955
CREATED:20260105T175908Z
LAST-MODIFIED:20260105T175908Z
UID:10000391-1768303800-1768307400@americancinemaeditors.org
SUMMARY:Virtual Glass of Wine (VGOW): Editors in Conversation – The Testament of Ann Lee (Zoom Event)
DESCRIPTION:
URL:https://americancinemaeditors.org/event/virtual-glass-of-wine-vgow-editors-in-conversation-the-testament-of-ann-lee-zoom-event/
LOCATION:Zoom/Online\, see event description for link details\, CA\, United States
CATEGORIES:Members Only,Panel/Q&A/Interview,Zoom/Online
ATTACH;FMTTYPE=image/jpeg:https://americancinemaeditors.org/wp-content/uploads/2026/01/VGOW-Testament-of-Ann-Lee.jpg
END:VEVENT
BEGIN:VEVENT
DTSTART;TZID=America/Los_Angeles:20260112T170000
DTEND;TZID=America/Los_Angeles:20260112T180000
DTSTAMP:20260425T120955
CREATED:20260105T175344Z
LAST-MODIFIED:20260105T175344Z
UID:10000390-1768237200-1768240800@americancinemaeditors.org
SUMMARY:Q&Agency (FKA Picturehouse 441) Arco Q&A with Director/Co-Writer Ugo Bienvenu (Zoom Event)
DESCRIPTION:
URL:https://americancinemaeditors.org/event/qagency-fka-picturehouse-441-arco-qa-with-director-co-writer-ugo-bienvenu-zoom-event/
LOCATION:Zoom/Online\, see event description for link details\, CA\, United States
CATEGORIES:Members Only,Panel/Q&A/Interview,Zoom/Online
ATTACH;FMTTYPE=image/jpeg:https://americancinemaeditors.org/wp-content/uploads/2026/01/QAACE-Arco.jpg
END:VEVENT
BEGIN:VEVENT
DTSTART;TZID=America/Los_Angeles:20260109T170000
DTEND;TZID=America/Los_Angeles:20260109T180000
DTSTAMP:20260425T120955
CREATED:20251230T164839Z
LAST-MODIFIED:20251230T164839Z
UID:10000388-1767978000-1767981600@americancinemaeditors.org
SUMMARY:Q&Agency (FKA Picturehouse 441) Train Dreams Q&A with Director/Co-Writer Clint Bentley; Editor Parker Laramie; Cinematographer Adolpho Veloso\, ABC\, AIP (Zoom Event)
DESCRIPTION:
URL:https://americancinemaeditors.org/event/q-editor-parker-laramie-cinematographer-adolpho-veloso-abc-aip-zoom-event/
LOCATION:Zoom/Online\, see event description for link details\, CA\, United States
CATEGORIES:Members Only,Panel/Q&A/Interview,Zoom/Online
ATTACH;FMTTYPE=image/jpeg:https://americancinemaeditors.org/wp-content/uploads/2025/12/QAACE-Train-Dreams.jpg
END:VEVENT
BEGIN:VEVENT
DTSTART;TZID=America/Los_Angeles:20260109T143000
DTEND;TZID=America/Los_Angeles:20260109T153000
DTSTAMP:20260425T120955
CREATED:20251231T182136Z
LAST-MODIFIED:20260106T214244Z
UID:10000389-1767969000-1767972600@americancinemaeditors.org
SUMMARY:Q&Agency (FKA Picturehouse 441) Apocalypse in the Tropics Q&A with Director/Co-writer/Producer Petra Costa (Zoom Event)
DESCRIPTION:
URL:https://americancinemaeditors.org/event/qagency-fka-picturehouse-441-apocalypse-in-the-tropics-qa-with-director-co-writer-producer-petra-costa-zoom-event/
LOCATION:Zoom/Online\, see event description for link details\, CA\, United States
CATEGORIES:Members Only,Panel/Q&A/Interview,Zoom/Online
ATTACH;FMTTYPE=image/jpeg:https://americancinemaeditors.org/wp-content/uploads/2025/12/QAACE-Apocalypse-Tropics-2.jpg
END:VEVENT
BEGIN:VEVENT
DTSTART;TZID=America/Los_Angeles:20260108T170000
DTEND;TZID=America/Los_Angeles:20260108T180000
DTSTAMP:20260425T120955
CREATED:20251229T212157Z
LAST-MODIFIED:20251229T212157Z
UID:10000385-1767891600-1767895200@americancinemaeditors.org
SUMMARY:Q&Agency (FKA Picturehouse 441) Wake Up Dead Man Q&A with Writer/Producer/Director Rian Johnson & Editor Bob Ducsay\, ACE (Zoom Event)
DESCRIPTION:
URL:https://americancinemaeditors.org/event/qagency-fka-picturehouse-441-wake-up-dead-man-qa-with-writer-producer-director-rian-johnson-editor-bob-ducsay-ace-zoom-event/
LOCATION:Zoom/Online\, see event description for link details\, CA\, United States
CATEGORIES:Members Only,Panel/Q&A/Interview,Zoom/Online
ATTACH;FMTTYPE=image/jpeg:https://americancinemaeditors.org/wp-content/uploads/2025/12/QAACE-Dead-Man-2.jpg
END:VEVENT
BEGIN:VEVENT
DTSTART;TZID=America/Los_Angeles:20260107T180000
DTEND;TZID=America/Los_Angeles:20260107T190000
DTSTAMP:20260425T120955
CREATED:20251229T211757Z
LAST-MODIFIED:20260106T214431Z
UID:10000384-1767808800-1767812400@americancinemaeditors.org
SUMMARY:Q&Agency (FKA Picturehouse 441) No Other Choice Q&A with Director/Co-Writer/Producer Park Chan-wook & Editor Kim Sang-beom (Zoom Event)
DESCRIPTION:
URL:https://americancinemaeditors.org/event/qagency-fka-picturehouse-441-no-other-choice-qa-with-director-co-writer-producer-park-chan-wook-editor-kim-sang-beom-zoom-event/
LOCATION:Zoom/Online\, see event description for link details\, CA\, United States
CATEGORIES:Members Only,Panel/Q&A/Interview,Zoom/Online
ATTACH;FMTTYPE=image/jpeg:https://americancinemaeditors.org/wp-content/uploads/2025/12/attempt2-choce.jpg
END:VEVENT
BEGIN:VEVENT
DTSTART;TZID=America/Los_Angeles:20260107T113000
DTEND;TZID=America/Los_Angeles:20260107T123000
DTSTAMP:20260425T120955
CREATED:20251229T222034Z
LAST-MODIFIED:20251229T222034Z
UID:10000386-1767785400-1767789000@americancinemaeditors.org
SUMMARY:Virtual Glass of Wine (VGOW): Editors in Conversation - After the Hunt Q&A with Marco Costa\, ACE\, Luca Guadagnino and Host Chiara Bellesia (Members Only / Zoom Event)
DESCRIPTION:
URL:https://americancinemaeditors.org/event/virtual-glass-of-wine-vgow-editors-in-conversation-after-the-hunt-qa-with-marco-costa-ace-luca-guadagnino-and-host-chiara-bellesia-members-only-zoom-event/
LOCATION:Zoom/Online\, see event description for link details\, CA\, United States
CATEGORIES:Members Only,Panel/Q&A/Interview,Zoom/Online
ATTACH;FMTTYPE=image/jpeg:https://americancinemaeditors.org/wp-content/uploads/2025/12/VGOW-After-the-hunt.jpg
END:VEVENT
BEGIN:VEVENT
DTSTART;TZID=America/Los_Angeles:20260106T130000
DTEND;TZID=America/Los_Angeles:20260106T140000
DTSTAMP:20260425T120955
CREATED:20251229T210431Z
LAST-MODIFIED:20251229T210431Z
UID:10000382-1767704400-1767708000@americancinemaeditors.org
SUMMARY:Q&Agency (FKA Picturehouse 441) Cover-Up Q&A with Director/Producer/Editor Laura Poitras and Editors Peter Bowman and Amy Foote\, ACE (Zoom Event)
DESCRIPTION:
URL:https://americancinemaeditors.org/event/qagency-fka-picturehouse-441-cover-up-qa-with-director-producer-editor-laura-poitras-and-editors-peter-bowman-and-amy-foote-ace-zoom-event/
LOCATION:Zoom/Online\, see event description for link details\, CA\, United States
CATEGORIES:Members Only,Panel/Q&A/Interview,Zoom/Online
ATTACH;FMTTYPE=image/jpeg:https://americancinemaeditors.org/wp-content/uploads/2025/12/QAACE-Cover-Up.jpg
END:VEVENT
BEGIN:VEVENT
DTSTART;TZID=America/Los_Angeles:20260106T113000
DTEND;TZID=America/Los_Angeles:20260106T123000
DTSTAMP:20260425T120955
CREATED:20251229T222339Z
LAST-MODIFIED:20251229T222339Z
UID:10000387-1767699000-1767702600@americancinemaeditors.org
SUMMARY:Virtual Glass of Wine (VGOW): Editors in Conversation - Sentimental Value Chat between Olivier Bugge Coutté and Host Laura Spini\, BFE (Members Only / Zoom Event)
DESCRIPTION:
URL:https://americancinemaeditors.org/event/virtual-glass-of-wine-vgow-editors-in-conversation-sentimental-value-chat-between-olivier-bugge-coutte-and-host-laura-spini-bfe-members-only-zoom-event/
LOCATION:Zoom/Online\, see event description for link details\, CA\, United States
CATEGORIES:Members Only,Panel/Q&A/Interview,Zoom/Online
ATTACH;FMTTYPE=image/jpeg:https://americancinemaeditors.org/wp-content/uploads/2025/12/VGOW-Sentimental-Value.jpg
END:VEVENT
BEGIN:VEVENT
DTSTART;TZID=America/Los_Angeles:20260105T173000
DTEND;TZID=America/Los_Angeles:20260105T183000
DTSTAMP:20260425T120955
CREATED:20251229T211241Z
LAST-MODIFIED:20260105T223714Z
UID:10000383-1767634200-1767637800@americancinemaeditors.org
SUMMARY:Q&Agency (FKA Picturehouse 441) The Secret Agent Q&A with Writer/Producer/Director Kleber Mendonça Filho and Editors Eduardo Serrano & Matheus Farias (Zoom Event)
DESCRIPTION:
URL:https://americancinemaeditors.org/event/qagency-fka-picturehouse-441-the-secret-agent-qa-writer-producer-director-kleber-mendonca-filho-and-editors-eduardo-serrano-matheus-farias-zoom-event/
LOCATION:Zoom/Online\, see event description for link details\, CA\, United States
CATEGORIES:Members Only,Panel/Q&A/Interview,Zoom/Online
ATTACH;FMTTYPE=image/jpeg:https://americancinemaeditors.org/wp-content/uploads/2025/12/QAACE-Secret-Agent.jpg
END:VEVENT
BEGIN:VEVENT
DTSTART;TZID=America/Los_Angeles:20251218T170000
DTEND;TZID=America/Los_Angeles:20251218T180000
DTSTAMP:20260425T120955
CREATED:20251210T232900Z
LAST-MODIFIED:20251210T232900Z
UID:10000380-1766077200-1766080800@americancinemaeditors.org
SUMMARY:Q&Agency (FKA Picturehouse 441) Predator: Badlands Q&A with Director/Producer Dan Trachtenberg\, Visual Effects Supervisor Sheldon Stopsack (Weta)\, Visual Effects Producer/Co-Producer Kathy Siegel\, Animation Supervisor Karl Rapley (Weta)\, Visual Effects Supervisor Olivier Dumont (Zoom Event)
DESCRIPTION:
URL:https://americancinemaeditors.org/event/qagency-fka-picturehouse-441-predator-badlands-qa-with-director-producer-dan-trachtenberg-visual-effects-supervisor-sheldon-stopsack-weta-visual-effects-producer-co-producer-kathy-siegel-ani/
LOCATION:Zoom/Online\, see event description for link details\, CA\, United States
CATEGORIES:Members Only,Panel/Q&A/Interview,Zoom/Online
ATTACH;FMTTYPE=image/jpeg:https://americancinemaeditors.org/wp-content/uploads/2025/12/QAACE-Predator-Badlands.jpg
END:VEVENT
BEGIN:VEVENT
DTSTART;TZID=America/Los_Angeles:20251217T170000
DTEND;TZID=America/Los_Angeles:20251217T180000
DTSTAMP:20260425T120955
CREATED:20251209T192756Z
LAST-MODIFIED:20251209T192756Z
UID:10000379-1765990800-1765994400@americancinemaeditors.org
SUMMARY:Q&Agency (FKA Picturehouse 441) Zootopia 2 Q&A with Director Byron Howard & Editor Jeremy Milton\, ACE (Zoom Event)
DESCRIPTION:
URL:https://americancinemaeditors.org/event/qagency-fka-picturehouse-441-zootopia-2-qa-with-director-byron-howard-editor-jeremy-milton-ace-zoom-event/
LOCATION:Zoom/Online\, see event description for link details\, CA\, United States
CATEGORIES:Members Only,Panel/Q&A/Interview,Zoom/Online
ATTACH;FMTTYPE=image/jpeg:https://americancinemaeditors.org/wp-content/uploads/2025/12/QAACE-On-Zoo2.jpg
END:VEVENT
BEGIN:VEVENT
DTSTART;TZID=America/Los_Angeles:20251217T113000
DTEND;TZID=America/Los_Angeles:20251217T123000
DTSTAMP:20260425T120955
CREATED:20251205T172243Z
LAST-MODIFIED:20251205T172243Z
UID:10000374-1765971000-1765974600@americancinemaeditors.org
SUMMARY:Virtual Glass of Wine (VGOW): Editors in Conversation with Taylor Joy Mason\, ACE (Zoom Event)
DESCRIPTION:
URL:https://americancinemaeditors.org/event/virtual-glass-of-wine-vgow-editors-in-conversation-with-taylor-joy-mason-ace-zoom-event/
LOCATION:Zoom/Online\, see event description for link details\, CA\, United States
CATEGORIES:Members Only,Panel/Q&A/Interview,Zoom/Online
ATTACH;FMTTYPE=image/jpeg:https://americancinemaeditors.org/wp-content/uploads/2025/12/HIM-VGOW.jpg
END:VEVENT
BEGIN:VEVENT
DTSTART;TZID=America/Los_Angeles:20251216T170000
DTEND;TZID=America/Los_Angeles:20251216T180000
DTSTAMP:20260425T120955
CREATED:20251209T185524Z
LAST-MODIFIED:20251209T185524Z
UID:10000377-1765904400-1765908000@americancinemaeditors.org
SUMMARY:The Q&Agency (FKA Picturehouse 441) Frankenstein Q&A with Editor Evan Schiff\, ACE (Zoom Event)
DESCRIPTION:
URL:https://americancinemaeditors.org/event/the-qagency-fka-picturehouse-441-frankenstein-qa-with-editor-evan-schiff-ace-zoom-event/
LOCATION:Zoom/Online\, see event description for link details\, CA\, United States
CATEGORIES:Members Only,Panel/Q&A/Interview,Zoom/Online
ATTACH;FMTTYPE=image/jpeg:https://americancinemaeditors.org/wp-content/uploads/2025/12/QAACE-Frankenstein.jpg
END:VEVENT
BEGIN:VEVENT
DTSTART;TZID=America/Los_Angeles:20251216T113000
DTEND;TZID=America/Los_Angeles:20251216T123000
DTSTAMP:20260425T120955
CREATED:20251203T160557Z
LAST-MODIFIED:20251203T160557Z
UID:10000368-1765884600-1765888200@americancinemaeditors.org
SUMMARY:Virtual Glass of Wine (VGOW): It’s Never Over\, Jeff Buckley (Zoom Event)
DESCRIPTION:
URL:https://americancinemaeditors.org/event/virtual-glass-of-wine-vgow-its-never-over-jeff-buckley-zoom-event/
LOCATION:Zoom/Online\, see event description for link details\, CA\, United States
CATEGORIES:Members Only,Panel/Q&A/Interview,Zoom/Online
ATTACH;FMTTYPE=image/jpeg:https://americancinemaeditors.org/wp-content/uploads/2025/12/VGOW-Jeff-Buckley.jpg
END:VEVENT
BEGIN:VEVENT
DTSTART;TZID=America/Los_Angeles:20251215T100000
DTEND;TZID=America/Los_Angeles:20251215T110000
DTSTAMP:20260425T120955
CREATED:20251209T184851Z
LAST-MODIFIED:20251209T184851Z
UID:10000376-1765792800-1765796400@americancinemaeditors.org
SUMMARY:The Q&Agency (FKA Picturehouse 441) The Girlfriend Q&A with editors Mark Davis & Mags Arnold (Zoom Event)
DESCRIPTION:
URL:https://americancinemaeditors.org/event/the-qagency-fka-picturehouse-441-the-girlfriend-qa-with-editors-mark-davis-mags-arnold-zoom-event/
LOCATION:Zoom/Online\, see event description for link details\, CA\, United States
CATEGORIES:Members Only,Panel/Q&A/Interview,Zoom/Online
ATTACH;FMTTYPE=image/jpeg:https://americancinemaeditors.org/wp-content/uploads/2025/12/QAACE-The-Girlfriend.jpg
END:VEVENT
BEGIN:VEVENT
DTSTART;TZID=America/Los_Angeles:20251211T130000
DTEND;TZID=America/Los_Angeles:20251211T140000
DTSTAMP:20260425T120955
CREATED:20251205T170656Z
LAST-MODIFIED:20251205T170656Z
UID:10000370-1765458000-1765461600@americancinemaeditors.org
SUMMARY:Q&Agency (FKA Picturehouse 441) Sentimental Value Q&A with Editor Olivier Bugge Coutté (Zoom Event)
DESCRIPTION:
URL:https://americancinemaeditors.org/event/qagency-fka-picturehouse-441-sentimental-value-qa-with-editor-olivier-bugge-coutte-zoom-event/
LOCATION:Zoom/Online\, see event description for link details\, CA\, United States
CATEGORIES:Members Only,Panel/Q&A/Interview,Zoom/Online
ATTACH;FMTTYPE=image/jpeg:https://americancinemaeditors.org/wp-content/uploads/2025/12/QAACE-Sentimental-Value.jpg
END:VEVENT
BEGIN:VEVENT
DTSTART;TZID=America/Los_Angeles:20251210T170000
DTEND;TZID=America/Los_Angeles:20251210T180000
DTSTAMP:20260425T120955
CREATED:20251205T171259Z
LAST-MODIFIED:20251205T171259Z
UID:10000371-1765386000-1765389600@americancinemaeditors.org
SUMMARY:Q&Agency (FKA Picturehouse 441) One Battle After Another Q&A with Editor Andy Jurgensen (Zoom Event)
DESCRIPTION:
URL:https://americancinemaeditors.org/event/qagency-fka-picturehouse-441-one-battle-after-another-qa-with-editor-andy-jurgensen-zoom-event/
LOCATION:Zoom/Online\, see event description for link details\, CA\, United States
CATEGORIES:Members Only,Panel/Q&A/Interview,Zoom/Online
ATTACH;FMTTYPE=image/jpeg:https://americancinemaeditors.org/wp-content/uploads/2025/12/QAACE-One-Battle.jpg
END:VEVENT
BEGIN:VEVENT
DTSTART;TZID=America/Los_Angeles:20251210T113000
DTEND;TZID=America/Los_Angeles:20251210T123000
DTSTAMP:20260425T120955
CREATED:20251205T172039Z
LAST-MODIFIED:20251205T172039Z
UID:10000373-1765366200-1765369800@americancinemaeditors.org
SUMMARY:Virtual Glass of Wine (VGOW): Editors in Conversation with Myron Kerstein\, ACE (Zoom Event)
DESCRIPTION:
URL:https://americancinemaeditors.org/event/virtual-glass-of-wine-vgow-editors-in-conversation-with-myron-kerstein-ace-zoom-event/
LOCATION:Zoom/Online\, see event description for link details\, CA\, United States
CATEGORIES:Members Only,Panel/Q&A/Interview,Zoom/Online
ATTACH;FMTTYPE=image/jpeg:https://americancinemaeditors.org/wp-content/uploads/2025/12/Wicked-VGOW.jpg
END:VEVENT
BEGIN:VEVENT
DTSTART;TZID=America/Los_Angeles:20251209T113000
DTEND;TZID=America/Los_Angeles:20251209T123000
DTSTAMP:20260425T120955
CREATED:20251205T171707Z
LAST-MODIFIED:20251205T171707Z
UID:10000372-1765279800-1765283400@americancinemaeditors.org
SUMMARY:Virtual Glass of Wine (VGOW): Editors in Conversation with Jacob Secher Schulsinger (Zoom Event)
DESCRIPTION:
URL:https://americancinemaeditors.org/event/virtual-glass-of-wine-vgow-editors-in-conversation-with-jacob-secher-schulsinger-zoom-event/
LOCATION:Zoom/Online\, see event description for link details\, CA\, United States
CATEGORIES:Members Only,Panel/Q&A/Interview,Zoom/Online
ATTACH;FMTTYPE=image/jpeg:https://americancinemaeditors.org/wp-content/uploads/2025/12/Hedda-VGOW.jpg
END:VEVENT
BEGIN:VEVENT
DTSTART;TZID=America/Los_Angeles:20251208T170000
DTEND;TZID=America/Los_Angeles:20251208T180000
DTSTAMP:20260425T120955
CREATED:20251203T162053Z
LAST-MODIFIED:20251203T162053Z
UID:10000369-1765213200-1765216800@americancinemaeditors.org
SUMMARY:Q&Agency (FKA Picturehouse 441) Wicked: For Good Q&A with Alice Brooks\, ASC & Editor Myron Kerstein\, ACE (Zoom Event)
DESCRIPTION:
URL:https://americancinemaeditors.org/event/qagency-fka-picturehouse-441-wicked-for-good-qa-with-alice-brooks-asc-editor-myron-kerstein-ace-zoom-event/
LOCATION:Zoom/Online\, see event description for link details\, CA\, United States
CATEGORIES:Members Only,Panel/Q&A/Interview,Zoom/Online
ATTACH;FMTTYPE=image/jpeg:https://americancinemaeditors.org/wp-content/uploads/2025/12/QAACE-Wicked-2-copy.jpg
END:VEVENT
BEGIN:VEVENT
DTSTART;TZID=America/Los_Angeles:20251125T113000
DTEND;TZID=America/Los_Angeles:20251125T123000
DTSTAMP:20260425T120955
CREATED:20251117T155159Z
LAST-MODIFIED:20251117T155159Z
UID:10000364-1764070200-1764073800@americancinemaeditors.org
SUMMARY:Virtual Glass of Wine (VGOW): Mistress Dispeller (Zoom Event)
DESCRIPTION:
URL:https://americancinemaeditors.org/event/virtual-glass-of-wine-vgow-mistress-dispeller-zoom-event/
LOCATION:Zoom/Online\, see event description for link details\, CA\, United States
CATEGORIES:Members Only,Panel/Q&A/Interview,Zoom/Online
ATTACH;FMTTYPE=image/jpeg:https://americancinemaeditors.org/wp-content/uploads/2025/11/VGOW-Mistress-Dispeller.jpg
END:VEVENT
BEGIN:VEVENT
DTSTART;TZID=America/Los_Angeles:20251114T113000
DTEND;TZID=America/Los_Angeles:20251114T123000
DTSTAMP:20260425T120955
CREATED:20251110T154424Z
LAST-MODIFIED:20251110T154424Z
UID:10000363-1763119800-1763123400@americancinemaeditors.org
SUMMARY:Virtual Glass of Wine with Editor Evan Schiff\, ACE (ACE Members Only - Zoom Event)
DESCRIPTION:
URL:https://americancinemaeditors.org/event/virtual-glass-of-wine-with-editor-evan-schiff-ace-ace-members-only-zoom-event/
LOCATION:Zoom/Online\, see event description for link details\, CA\, United States
CATEGORIES:Members Only,Panel/Q&A/Interview,Zoom/Online
ATTACH;FMTTYPE=image/jpeg:https://americancinemaeditors.org/wp-content/uploads/2025/11/VGOW-Frankenstein-2.jpg
END:VEVENT
BEGIN:VEVENT
DTSTART;TZID=America/Los_Angeles:20251105T170000
DTEND;TZID=America/Los_Angeles:20251105T180000
DTSTAMP:20260425T120955
CREATED:20251027T204503Z
LAST-MODIFIED:20251027T204748Z
UID:10000356-1762362000-1762365600@americancinemaeditors.org
SUMMARY:Q&Agency (FKA Picturehouse 441) Peggy Sue Got Married Q&A with Actor Kathleen Turner (Zoom Event)
DESCRIPTION:
URL:https://americancinemaeditors.org/event/qagency-fka-picturehouse-441-peggy-sue-got-married-qa-with-actor-kathleen-turner-zoom-event/
LOCATION:Zoom/Online\, see event description for link details\, CA\, United States
CATEGORIES:Members Only,Panel/Q&A/Interview,Zoom/Online
ATTACH;FMTTYPE=image/jpeg:https://americancinemaeditors.org/wp-content/uploads/2025/10/QAACE-Peggy-Sue-copy.jpg
END:VEVENT
END:VCALENDAR