BEGIN:VCALENDAR
VERSION:2.0
PRODID:-//American Cinema Editors | ACE - ECPv6.15.20//NONSGML v1.0//EN
CALSCALE:GREGORIAN
METHOD:PUBLISH
X-ORIGINAL-URL:https://americancinemaeditors.org
X-WR-CALDESC:Events for American Cinema Editors | ACE
REFRESH-INTERVAL;VALUE=DURATION:PT1H
X-Robots-Tag:noindex
X-PUBLISHED-TTL:PT1H
BEGIN:VTIMEZONE
TZID:America/Los_Angeles
BEGIN:DAYLIGHT
TZOFFSETFROM:-0800
TZOFFSETTO:-0700
TZNAME:PDT
DTSTART:20220313T100000
END:DAYLIGHT
BEGIN:STANDARD
TZOFFSETFROM:-0700
TZOFFSETTO:-0800
TZNAME:PST
DTSTART:20221106T090000
END:STANDARD
BEGIN:DAYLIGHT
TZOFFSETFROM:-0800
TZOFFSETTO:-0700
TZNAME:PDT
DTSTART:20230312T100000
END:DAYLIGHT
BEGIN:STANDARD
TZOFFSETFROM:-0700
TZOFFSETTO:-0800
TZNAME:PST
DTSTART:20231105T090000
END:STANDARD
BEGIN:DAYLIGHT
TZOFFSETFROM:-0800
TZOFFSETTO:-0700
TZNAME:PDT
DTSTART:20240310T100000
END:DAYLIGHT
BEGIN:STANDARD
TZOFFSETFROM:-0700
TZOFFSETTO:-0800
TZNAME:PST
DTSTART:20241103T090000
END:STANDARD
BEGIN:DAYLIGHT
TZOFFSETFROM:-0800
TZOFFSETTO:-0700
TZNAME:PDT
DTSTART:20250309T100000
END:DAYLIGHT
BEGIN:STANDARD
TZOFFSETFROM:-0700
TZOFFSETTO:-0800
TZNAME:PST
DTSTART:20251102T090000
END:STANDARD
END:VTIMEZONE
BEGIN:VEVENT
DTSTART;TZID=America/Los_Angeles:20240626T184500
DTEND;TZID=America/Los_Angeles:20240626T212000
DTSTAMP:20260425T212116
CREATED:20240617T214200Z
LAST-MODIFIED:20240617T214200Z
UID:10000166-1719427500-1719436800@americancinemaeditors.org
SUMMARY:LACPUG (Los Angeles Creative Pro User Group) Meet (LA Event)
DESCRIPTION:
URL:https://americancinemaeditors.org/event/lacpug-los-angeles-creative-pro-user-group-meet-la-event/
LOCATION:The Gallery Theater at Barnsdall Art Park\, 4800 Hollywood Boulevard\, Hollywood\, 90027\, United States
CATEGORIES:In-Person/Live Event,Members Only
ATTACH;FMTTYPE=image/jpeg:https://americancinemaeditors.org/wp-content/uploads/2024/06/LACPUG-June-2024.jpg
END:VEVENT
BEGIN:VEVENT
DTSTART;TZID=America/Los_Angeles:20231025T184500
DTEND;TZID=America/Los_Angeles:20231025T210000
DTSTAMP:20260425T212116
CREATED:20231017T210126Z
LAST-MODIFIED:20231017T210126Z
UID:10000067-1698259500-1698267600@americancinemaeditors.org
SUMMARY:LACPUG: Assistant Editors and AI night.
DESCRIPTION:
URL:https://americancinemaeditors.org/event/lacpug-assistant-editors-and-ai-night/
LOCATION:The Gallery Theater at Barnsdall Art Park\, 4800 Hollywood Boulevard\, Hollywood\, 90027\, United States
CATEGORIES:In-Person/Live Event,Meetings,Members Only,Workshop/Seminar
ATTACH;FMTTYPE=image/jpeg:https://americancinemaeditors.org/wp-content/uploads/2023/10/unnamed-3.jpg
END:VEVENT
END:VCALENDAR