BEGIN:VCALENDAR
VERSION:2.0
PRODID:-//American Cinema Editors | ACE - ECPv6.15.20//NONSGML v1.0//EN
CALSCALE:GREGORIAN
METHOD:PUBLISH
X-WR-CALNAME:American Cinema Editors | ACE
X-ORIGINAL-URL:https://americancinemaeditors.org
X-WR-CALDESC:Events for American Cinema Editors | ACE
REFRESH-INTERVAL;VALUE=DURATION:PT1H
X-Robots-Tag:noindex
X-PUBLISHED-TTL:PT1H
BEGIN:VTIMEZONE
TZID:America/Los_Angeles
BEGIN:DAYLIGHT
TZOFFSETFROM:-0800
TZOFFSETTO:-0700
TZNAME:PDT
DTSTART:20230312T100000
END:DAYLIGHT
BEGIN:STANDARD
TZOFFSETFROM:-0700
TZOFFSETTO:-0800
TZNAME:PST
DTSTART:20231105T090000
END:STANDARD
BEGIN:DAYLIGHT
TZOFFSETFROM:-0800
TZOFFSETTO:-0700
TZNAME:PDT
DTSTART:20240310T100000
END:DAYLIGHT
BEGIN:STANDARD
TZOFFSETFROM:-0700
TZOFFSETTO:-0800
TZNAME:PST
DTSTART:20241103T090000
END:STANDARD
BEGIN:DAYLIGHT
TZOFFSETFROM:-0800
TZOFFSETTO:-0700
TZNAME:PDT
DTSTART:20250309T100000
END:DAYLIGHT
BEGIN:STANDARD
TZOFFSETFROM:-0700
TZOFFSETTO:-0800
TZNAME:PST
DTSTART:20251102T090000
END:STANDARD
BEGIN:DAYLIGHT
TZOFFSETFROM:-0800
TZOFFSETTO:-0700
TZNAME:PDT
DTSTART:20260308T100000
END:DAYLIGHT
BEGIN:STANDARD
TZOFFSETFROM:-0700
TZOFFSETTO:-0800
TZNAME:PST
DTSTART:20261101T090000
END:STANDARD
END:VTIMEZONE
BEGIN:VEVENT
DTSTART;TZID=America/Los_Angeles:20250320T184500
DTEND;TZID=America/Los_Angeles:20250320T213000
DTSTAMP:20260425T135743
CREATED:20250318T213423Z
LAST-MODIFIED:20250318T213423Z
UID:10000259-1742496300-1742506200@americancinemaeditors.org
SUMMARY:Los Angeles Creative Pro User Group (LACPUG) Meet Up: Deaf Editing\, Philip Hodgetts and MrBeast (LA Event)
DESCRIPTION:
URL:https://americancinemaeditors.org/event/los-angeles-creative-pro-user-group-lacpug-meet-up-deaf-editing-philip-hodgetts-and-mrbeast-la-event/
LOCATION:Gallery Theatre at Barnsdall Art Park\, 4800 Hollywood Blvd\, Hollywood\, 90027\, United States
CATEGORIES:In-Person/Live Event,Members Only,Panel/Q&A/Interview,Workshop/Seminar
ATTACH;FMTTYPE=image/jpeg:https://americancinemaeditors.org/wp-content/uploads/2025/03/LACPUG-Mar-2025.jpg
END:VEVENT
BEGIN:VEVENT
DTSTART;TZID=America/Los_Angeles:20241120T184500
DTEND;TZID=America/Los_Angeles:20241120T213000
DTSTAMP:20260425T135743
CREATED:20241112T155433Z
LAST-MODIFIED:20241112T155433Z
UID:10000219-1732128300-1732138200@americancinemaeditors.org
SUMMARY:Los Angeles Creative Pro User Group (LACPUG) Meet Up: Editors on Editing (LA Event)
DESCRIPTION:
URL:https://americancinemaeditors.org/event/los-angeles-creative-pro-user-group-lacpug-meet-up-editors-on-editing-la-event/
LOCATION:Gallery Theatre at Barnsdall Art Park\, 4800 Hollywood Blvd\, Hollywood\, 90027\, United States
CATEGORIES:In-Person/Live Event,Members Only,Workshop/Seminar
ATTACH;FMTTYPE=image/jpeg:https://americancinemaeditors.org/wp-content/uploads/2024/11/LACPUG-Nov-2024.jpg
END:VEVENT
BEGIN:VEVENT
DTSTART;TZID=America/Los_Angeles:20240925T184500
DTEND;TZID=America/Los_Angeles:20240925T200500
DTSTAMP:20260425T135743
CREATED:20240903T151352Z
LAST-MODIFIED:20240903T151352Z
UID:10000193-1727289900-1727294700@americancinemaeditors.org
SUMMARY:Los Angeles Creative Pro User Group (LACPUG) Meet Up: Reservation Dogs and Big Movie Making (LA Event)
DESCRIPTION:
URL:https://americancinemaeditors.org/event/los-angeles-creative-pro-user-group-lacpug-meet-up-reservation-dogs-and-big-movie-making-la-event/
LOCATION:Gallery Theatre at Barnsdall Art Park\, 4800 Hollywood Blvd\, Hollywood\, 90027\, United States
CATEGORIES:In-Person/Live Event,Members Only,Panel/Q&A/Interview
ATTACH;FMTTYPE=image/jpeg:https://americancinemaeditors.org/wp-content/uploads/2024/09/unnamed-1.jpg
END:VEVENT
BEGIN:VEVENT
DTSTART;TZID=America/Los_Angeles:20240424T184500
DTEND;TZID=America/Los_Angeles:20240424T214500
DTSTAMP:20260425T135743
CREATED:20240408T222207Z
LAST-MODIFIED:20240408T222207Z
UID:10000134-1713984300-1713995100@americancinemaeditors.org
SUMMARY:LACPUG Meetup
DESCRIPTION:
URL:https://americancinemaeditors.org/event/lacpug-meetup/
LOCATION:Gallery Theatre at Barnsdall Art Park\, 4800 Hollywood Blvd\, Hollywood\, 90027\, United States
CATEGORIES:In-Person/Live Event,Members Only
ATTACH;FMTTYPE=image/jpeg:https://americancinemaeditors.org/wp-content/uploads/2024/04/unnamed-1.jpg
END:VEVENT
END:VCALENDAR