BEGIN:VCALENDAR
VERSION:2.0
PRODID:-//American Cinema Editors | ACE - ECPv6.15.20//NONSGML v1.0//EN
CALSCALE:GREGORIAN
METHOD:PUBLISH
X-ORIGINAL-URL:https://americancinemaeditors.org
X-WR-CALDESC:Events for American Cinema Editors | ACE
REFRESH-INTERVAL;VALUE=DURATION:PT1H
X-Robots-Tag:noindex
X-PUBLISHED-TTL:PT1H
BEGIN:VTIMEZONE
TZID:Europe/Amsterdam
BEGIN:DAYLIGHT
TZOFFSETFROM:+0100
TZOFFSETTO:+0200
TZNAME:CEST
DTSTART:20230326T010000
END:DAYLIGHT
BEGIN:STANDARD
TZOFFSETFROM:+0200
TZOFFSETTO:+0100
TZNAME:CET
DTSTART:20231029T010000
END:STANDARD
BEGIN:DAYLIGHT
TZOFFSETFROM:+0100
TZOFFSETTO:+0200
TZNAME:CEST
DTSTART:20240331T010000
END:DAYLIGHT
BEGIN:STANDARD
TZOFFSETFROM:+0200
TZOFFSETTO:+0100
TZNAME:CET
DTSTART:20241027T010000
END:STANDARD
BEGIN:DAYLIGHT
TZOFFSETFROM:+0100
TZOFFSETTO:+0200
TZNAME:CEST
DTSTART:20250330T010000
END:DAYLIGHT
BEGIN:STANDARD
TZOFFSETFROM:+0200
TZOFFSETTO:+0100
TZNAME:CET
DTSTART:20251026T010000
END:STANDARD
END:VTIMEZONE
BEGIN:VTIMEZONE
TZID:America/Los_Angeles
BEGIN:DAYLIGHT
TZOFFSETFROM:-0800
TZOFFSETTO:-0700
TZNAME:PDT
DTSTART:20230312T100000
END:DAYLIGHT
BEGIN:STANDARD
TZOFFSETFROM:-0700
TZOFFSETTO:-0800
TZNAME:PST
DTSTART:20231105T090000
END:STANDARD
BEGIN:DAYLIGHT
TZOFFSETFROM:-0800
TZOFFSETTO:-0700
TZNAME:PDT
DTSTART:20240310T100000
END:DAYLIGHT
BEGIN:STANDARD
TZOFFSETFROM:-0700
TZOFFSETTO:-0800
TZNAME:PST
DTSTART:20241103T090000
END:STANDARD
BEGIN:DAYLIGHT
TZOFFSETFROM:-0800
TZOFFSETTO:-0700
TZNAME:PDT
DTSTART:20250309T100000
END:DAYLIGHT
BEGIN:STANDARD
TZOFFSETFROM:-0700
TZOFFSETTO:-0800
TZNAME:PST
DTSTART:20251102T090000
END:STANDARD
END:VTIMEZONE
BEGIN:VEVENT
DTSTART;TZID=Europe/Amsterdam:20240914T154500
DTEND;TZID=Europe/Amsterdam:20240914T161500
DTSTAMP:20260425T194320
CREATED:20240828T003115Z
LAST-MODIFIED:20240828T003115Z
UID:10000191-1726328700-1726330500@americancinemaeditors.org
SUMMARY:American Cinema Editors Presents Award-Winning Editor Job ter Burg\, ACE\, NCE in Conversation with Carolyn Giardina at IBC (Amsterdam Event)
DESCRIPTION:
URL:https://americancinemaeditors.org/event/american-cinema-editors-presents-award-winning-editor-job-ter-burg-ace-nce-in-conversation-with-carolyn-giardina-at-ibc-amsterdam-event/
LOCATION:Amsterdam RAI Exhibition
CATEGORIES:In-Person/Live Event,Members Only,Panel/Q&A/Interview
ATTACH;FMTTYPE=image/jpeg:https://americancinemaeditors.org/wp-content/uploads/2024/08/IBC2024_ACE-Panel.jpg
ORGANIZER;CN="IBC":MAILTO:exhibition@ibc.org
END:VEVENT
BEGIN:VEVENT
DTSTART;VALUE=DATE:20240913
DTEND;VALUE=DATE:20240917
DTSTAMP:20260425T194320
CREATED:20240812T195157Z
LAST-MODIFIED:20240812T195157Z
UID:10000185-1726185600-1726531199@americancinemaeditors.org
SUMMARY:IBC 2024: Redefining Media Leading Innovation (UK Event)
DESCRIPTION:
URL:https://americancinemaeditors.org/event/ibc-2024-redefining-media-leading-innovation-uk-event/
LOCATION:Amsterdam RAI Exhibition
CATEGORIES:In-Person/Live Event,Members Only,Panel/Q&A/Interview,Workshop/Seminar
ATTACH;FMTTYPE=image/jpeg:https://americancinemaeditors.org/wp-content/uploads/2024/08/unnamed-2.jpg
ORGANIZER;CN="IBC":MAILTO:exhibition@ibc.org
END:VEVENT
END:VCALENDAR