BEGIN:VCALENDAR
VERSION:2.0
PRODID:-//American Cinema Editors | ACE - ECPv6.15.20//NONSGML v1.0//EN
CALSCALE:GREGORIAN
METHOD:PUBLISH
X-WR-CALNAME:American Cinema Editors | ACE
X-ORIGINAL-URL:https://americancinemaeditors.org
X-WR-CALDESC:Events for American Cinema Editors | ACE
REFRESH-INTERVAL;VALUE=DURATION:PT1H
X-Robots-Tag:noindex
X-PUBLISHED-TTL:PT1H
BEGIN:VTIMEZONE
TZID:America/Los_Angeles
BEGIN:DAYLIGHT
TZOFFSETFROM:-0800
TZOFFSETTO:-0700
TZNAME:PDT
DTSTART:20220313T100000
END:DAYLIGHT
BEGIN:STANDARD
TZOFFSETFROM:-0700
TZOFFSETTO:-0800
TZNAME:PST
DTSTART:20221106T090000
END:STANDARD
BEGIN:DAYLIGHT
TZOFFSETFROM:-0800
TZOFFSETTO:-0700
TZNAME:PDT
DTSTART:20230312T100000
END:DAYLIGHT
BEGIN:STANDARD
TZOFFSETFROM:-0700
TZOFFSETTO:-0800
TZNAME:PST
DTSTART:20231105T090000
END:STANDARD
BEGIN:DAYLIGHT
TZOFFSETFROM:-0800
TZOFFSETTO:-0700
TZNAME:PDT
DTSTART:20240310T100000
END:DAYLIGHT
BEGIN:STANDARD
TZOFFSETFROM:-0700
TZOFFSETTO:-0800
TZNAME:PST
DTSTART:20241103T090000
END:STANDARD
BEGIN:DAYLIGHT
TZOFFSETFROM:-0800
TZOFFSETTO:-0700
TZNAME:PDT
DTSTART:20250309T100000
END:DAYLIGHT
BEGIN:STANDARD
TZOFFSETFROM:-0700
TZOFFSETTO:-0800
TZNAME:PST
DTSTART:20251102T090000
END:STANDARD
BEGIN:DAYLIGHT
TZOFFSETFROM:-0800
TZOFFSETTO:-0700
TZNAME:PDT
DTSTART:20260308T100000
END:DAYLIGHT
BEGIN:STANDARD
TZOFFSETFROM:-0700
TZOFFSETTO:-0800
TZNAME:PST
DTSTART:20261101T090000
END:STANDARD
END:VTIMEZONE
BEGIN:VEVENT
DTSTART;TZID=America/Los_Angeles:20250501T083000
DTEND;TZID=America/Los_Angeles:20250501T120000
DTSTAMP:20260425T134352
CREATED:20250428T152000Z
LAST-MODIFIED:20250428T152000Z
UID:10000274-1746088200-1746100800@americancinemaeditors.org
SUMMARY:International Workers Day March and Rally (LA Event)
DESCRIPTION:
URL:https://americancinemaeditors.org/event/international-workers-day-march-and-rally-la-event/
LOCATION:Olympic & N. Figueroa – DTLA
CATEGORIES:Festivals,In-Person/Live Event,Members Only
ATTACH;FMTTYPE=image/jpeg:https://americancinemaeditors.org/wp-content/uploads/2025/04/MAYDAY25_SAVE-THE-DATE_v2-ENG.jpg
END:VEVENT
BEGIN:VEVENT
DTSTART;VALUE=DATE:20240630
DTEND;VALUE=DATE:20240701
DTSTAMP:20260425T134352
CREATED:20240617T215046Z
LAST-MODIFIED:20240617T215046Z
UID:10000167-1719705600-1719791999@americancinemaeditors.org
SUMMARY:IATSE Pride March (New York Event)
DESCRIPTION:
URL:https://americancinemaeditors.org/event/iatse-pride-march-new-york-event/
LOCATION:Zoom/Online\, see event description for link details\, CA\, United States
CATEGORIES:In-Person/Live Event,Members Only,New York Event
ATTACH;FMTTYPE=image/jpeg:https://americancinemaeditors.org/wp-content/uploads/2024/06/NY-Pride-2024.jpg
END:VEVENT
BEGIN:VEVENT
DTSTART;TZID=America/Los_Angeles:20231028T110000
DTEND;TZID=America/Los_Angeles:20231028T170000
DTSTAMP:20260425T134352
CREATED:20230920T191015Z
LAST-MODIFIED:20230920T191015Z
UID:10000052-1698490800-1698512400@americancinemaeditors.org
SUMMARY:IATSE Yard Sale – Open to the Public
DESCRIPTION:
URL:https://americancinemaeditors.org/event/iatse-yard-sale-open-to-the-public/
LOCATION:I.A.T.S.E. Local 80\, 2520 W Olive Ave\, Burbank\, 91505\, United States
CATEGORIES:In-Person/Live Event,Members Only
ATTACH;FMTTYPE=image/jpeg:https://americancinemaeditors.org/wp-content/uploads/2023/09/unnamed-2-1.jpg
END:VEVENT
END:VCALENDAR