BEGIN:VCALENDAR
VERSION:2.0
PRODID:-//American Cinema Editors | ACE - ECPv6.15.20//NONSGML v1.0//EN
CALSCALE:GREGORIAN
METHOD:PUBLISH
X-ORIGINAL-URL:https://americancinemaeditors.org
X-WR-CALDESC:Events for American Cinema Editors | ACE
REFRESH-INTERVAL;VALUE=DURATION:PT1H
X-Robots-Tag:noindex
X-PUBLISHED-TTL:PT1H
BEGIN:VTIMEZONE
TZID:America/Los_Angeles
BEGIN:DAYLIGHT
TZOFFSETFROM:-0800
TZOFFSETTO:-0700
TZNAME:PDT
DTSTART:20240310T100000
END:DAYLIGHT
BEGIN:STANDARD
TZOFFSETFROM:-0700
TZOFFSETTO:-0800
TZNAME:PST
DTSTART:20241103T090000
END:STANDARD
BEGIN:DAYLIGHT
TZOFFSETFROM:-0800
TZOFFSETTO:-0700
TZNAME:PDT
DTSTART:20250309T100000
END:DAYLIGHT
BEGIN:STANDARD
TZOFFSETFROM:-0700
TZOFFSETTO:-0800
TZNAME:PST
DTSTART:20251102T090000
END:STANDARD
BEGIN:DAYLIGHT
TZOFFSETFROM:-0800
TZOFFSETTO:-0700
TZNAME:PDT
DTSTART:20260308T100000
END:DAYLIGHT
BEGIN:STANDARD
TZOFFSETFROM:-0700
TZOFFSETTO:-0800
TZNAME:PST
DTSTART:20261101T090000
END:STANDARD
BEGIN:DAYLIGHT
TZOFFSETFROM:-0800
TZOFFSETTO:-0700
TZNAME:PDT
DTSTART:20270314T100000
END:DAYLIGHT
BEGIN:STANDARD
TZOFFSETFROM:-0700
TZOFFSETTO:-0800
TZNAME:PST
DTSTART:20271107T090000
END:STANDARD
END:VTIMEZONE
BEGIN:VEVENT
DTSTART;TZID=America/Los_Angeles:20260422T090000
DTEND;TZID=America/Los_Angeles:20260422T110000
DTSTAMP:20260425T070335
CREATED:20260413T171944Z
LAST-MODIFIED:20260413T171944Z
UID:10000420-1776848400-1776855600@americancinemaeditors.org
SUMMARY:Chat with ACE Life Member Bill Pankow\, ACE\, Over Lunch (NY Event – Members Only)
DESCRIPTION:
URL:https://americancinemaeditors.org/event/chat-with-ace-life-member-bill-pankow-ace-over-lunch-ny-event-members-only/
CATEGORIES:In-Person/Live Event,Members Only,New York Event
ATTACH;FMTTYPE=image/jpeg:https://americancinemaeditors.org/wp-content/uploads/2026/04/Connect-Lunch-Bill-Pankow-ACE-2.jpg
END:VEVENT
BEGIN:VEVENT
DTSTART;TZID=America/Los_Angeles:20260420T120000
DTEND;TZID=America/Los_Angeles:20260420T140000
DTSTAMP:20260425T070335
CREATED:20260319T212513Z
LAST-MODIFIED:20260319T212513Z
UID:10000417-1776686400-1776693600@americancinemaeditors.org
SUMMARY:Chat with ACE Life Member Diana Friedberg\, ACE\, Over Lunch (LA Event – Members Only)
DESCRIPTION:
URL:https://americancinemaeditors.org/event/chat-with-ace-life-member-diana-friedberg-ace-over-lunch-la-event-members-only/
LOCATION:Zoom/Online\, see event description for link details\, CA\, United States
CATEGORIES:In-Person/Live Event,Members Only
ATTACH;FMTTYPE=image/jpeg:https://americancinemaeditors.org/wp-content/uploads/2026/03/Connect-Lunch-Diana-Friedberg-ACE.jpg
END:VEVENT
BEGIN:VEVENT
DTSTART;TZID=America/Los_Angeles:20260417T153000
DTEND;TZID=America/Los_Angeles:20260417T180000
DTSTAMP:20260425T070335
CREATED:20260319T214244Z
LAST-MODIFIED:20260323T181644Z
UID:10000418-1776439800-1776448800@americancinemaeditors.org
SUMMARY:American Cinema Editors Presents a Screening of Billy Madison followed by a Discussion Jeffrey Wolf\, ACE (NY Event)
DESCRIPTION:
URL:https://americancinemaeditors.org/event/american-cinema-editors-presents-a-screening-of-billy-madison-followed-by-a-discussion-jeffrey-wolf-ace-ny-event/
LOCATION:Metrograph\, 7 Ludlow St\, New York\, NY\, 10002
ATTACH;FMTTYPE=image/jpeg:https://americancinemaeditors.org/wp-content/uploads/2026/03/ACE-Presents-Billy-Madison.jpg
END:VEVENT
BEGIN:VEVENT
DTSTART;TZID=America/Los_Angeles:20260328T163000
DTEND;TZID=America/Los_Angeles:20260328T183000
DTSTAMP:20260425T070335
CREATED:20260213T003324Z
LAST-MODIFIED:20260213T003435Z
UID:10000409-1774715400-1774722600@americancinemaeditors.org
SUMMARY:American Cinema Editors Presents A Screening of Cool Hand Luke Followed by a Discussion with Bobbie & Molly O'Steen (NY Event)
DESCRIPTION:
URL:https://americancinemaeditors.org/event/american-cinema-editors-presents-a-screening-of-cool-hand-luke-followed-by-a-discussion-with-bobbie-molly-osteen-ny-event/
LOCATION:Metrograph\, 7 Ludlow St\, New York\, NY\, 10002
CATEGORIES:In-Person/Live Event,Members Only,New York Event,Panel/Q&A/Interview,Screenings
ATTACH;FMTTYPE=image/jpeg:https://americancinemaeditors.org/wp-content/uploads/2026/02/ACE-Presents-Cool-Hand-Luke.jpg
END:VEVENT
BEGIN:VEVENT
DTSTART;TZID=America/Los_Angeles:20260321T090000
DTEND;TZID=America/Los_Angeles:20260321T113000
DTSTAMP:20260425T070335
CREATED:20260317T170440Z
LAST-MODIFIED:20260317T170440Z
UID:10000416-1774083600-1774092600@americancinemaeditors.org
SUMMARY:ACE Social Committee Hike (Members Only\, LA Event)
DESCRIPTION:
URL:https://americancinemaeditors.org/event/ace-social-committee-hike-members-only-la-event/
CATEGORIES:In-Person/Live Event,Members Only
ATTACH;FMTTYPE=image/jpeg:https://americancinemaeditors.org/wp-content/uploads/2026/03/Social-Committee-Leones-2026.jpg
END:VEVENT
BEGIN:VEVENT
DTSTART;TZID=America/Los_Angeles:20260314T093000
DTEND;TZID=America/Los_Angeles:20260314T120000
DTSTAMP:20260425T070335
CREATED:20260305T170314Z
LAST-MODIFIED:20260305T170314Z
UID:10000415-1773480600-1773489600@americancinemaeditors.org
SUMMARY:Invisible Art Visible Artists Seminar (LA Event)
DESCRIPTION:
URL:https://americancinemaeditors.org/event/invisible-art-visible-artists-seminar-la-event/
LOCATION:DGA Theater Complex\, 7920 Sunset Blvd\, Los Angeles\, 90046\, United States
CATEGORIES:In-Person/Live Event,Panel/Q&A/Interview
ATTACH;FMTTYPE=image/jpeg:https://americancinemaeditors.org/wp-content/uploads/2026/03/IAVA-2025-Square-2.jpg
END:VEVENT
BEGIN:VEVENT
DTSTART;TZID=America/Los_Angeles:20260227T170000
DTEND;TZID=America/Los_Angeles:20260227T220000
DTSTAMP:20260425T070335
CREATED:20251209T190251Z
LAST-MODIFIED:20260213T003614Z
UID:10000378-1772211600-1772229600@americancinemaeditors.org
SUMMARY:ACE Eddie Awards (LA Event)
DESCRIPTION:
URL:https://americancinemaeditors.org/event/ace-eddie-awards-la-event-2/
LOCATION:Royce Hall\, 10745 Dickson Ct\, Los Angeles\, 90095\, United States
CATEGORIES:Awards,In-Person/Live Event
ATTACH;FMTTYPE=image/jpeg:https://americancinemaeditors.org/wp-content/uploads/2025/12/Eddie-Square-Calendar.jpg
END:VEVENT
BEGIN:VEVENT
DTSTART;TZID=America/Los_Angeles:20260220T160000
DTEND;TZID=America/Los_Angeles:20260220T180000
DTSTAMP:20260425T070335
CREATED:20260204T204401Z
LAST-MODIFIED:20260204T204401Z
UID:10000404-1771603200-1771610400@americancinemaeditors.org
SUMMARY:ACE NY + Extreme Music Happy Hour Celebrating the Editors Nominated for the 76th Eddie Awards! (ACE Members Only\, NY Event)
DESCRIPTION:
URL:https://americancinemaeditors.org/event/ace-ny-extreme-music-happy-hour-celebrating-the-editors-nominated-for-the-76th-eddie-awards-ace-members-only-ny-event/
CATEGORIES:In-Person/Live Event,Members Only,New York Event
ATTACH;FMTTYPE=image/jpeg:https://americancinemaeditors.org/wp-content/uploads/2026/02/ACENYExtreme-Eddies-Cal2026.jpg
END:VEVENT
BEGIN:VEVENT
DTSTART;TZID=America/Los_Angeles:20260208T140000
DTEND;TZID=America/Los_Angeles:20260208T170000
DTSTAMP:20260425T070335
CREATED:20260126T160125Z
LAST-MODIFIED:20260126T160125Z
UID:10000403-1770559200-1770570000@americancinemaeditors.org
SUMMARY:ACE Social Committee Super Bowl Bowling (Members Only\, LA Event)
DESCRIPTION:
URL:https://americancinemaeditors.org/event/ace-social-committee-super-bowl-bowling-members-only-la-event/
CATEGORIES:In-Person/Live Event,Members Only
ATTACH;FMTTYPE=image/jpeg:https://americancinemaeditors.org/wp-content/uploads/2026/01/Bowling-Feb-8.jpg
END:VEVENT
BEGIN:VEVENT
DTSTART;TZID=America/Los_Angeles:20260206T163000
DTEND;TZID=America/Los_Angeles:20260206T190000
DTSTAMP:20260425T070335
CREATED:20260106T213445Z
LAST-MODIFIED:20260118T181832Z
UID:10000394-1770395400-1770404400@americancinemaeditors.org
SUMMARY:American Cinema Editors Presents a Screening of My Architect: A Son’s Journey Followed by a Q&A with Editor Sabine Krayenbühl (NY Event)
DESCRIPTION:
URL:https://americancinemaeditors.org/event/american-cinema-editors-presents-a-screening-of-my-architect-a-sons-journey-followed-by-a-qa-with-editor-sabine-krayenbuhl-ny-event/
LOCATION:Metrograph\, 7 Ludlow St\, New York\, NY\, 10002
CATEGORIES:In-Person/Live Event,Members Only,New York Event,Panel/Q&A/Interview,Screenings
ATTACH;FMTTYPE=image/jpeg:https://americancinemaeditors.org/wp-content/uploads/2026/01/ACE-Presents-My-Architect.jpg
END:VEVENT
BEGIN:VEVENT
DTSTART;TZID=America/Los_Angeles:20260125T100000
DTEND;TZID=America/Los_Angeles:20260125T120000
DTSTAMP:20260425T070335
CREATED:20260113T021807Z
LAST-MODIFIED:20260113T021807Z
UID:10000401-1769335200-1769342400@americancinemaeditors.org
SUMMARY:ACE Walks to Remember: An Altadena Tribute Walk (Members Only\, LA Event)
DESCRIPTION:
URL:https://americancinemaeditors.org/event/ace-walks-to-remember-an-altadena-tribute-walk-members-only-la-event/
CATEGORIES:In-Person/Live Event,Members Only
ATTACH;FMTTYPE=image/jpeg:https://americancinemaeditors.org/wp-content/uploads/2026/01/ACE-Social-Committee-AltaDena-Walk-copy.jpg
END:VEVENT
BEGIN:VEVENT
DTSTART;TZID=America/Los_Angeles:20260124T153000
DTEND;TZID=America/Los_Angeles:20260124T183000
DTSTAMP:20260425T070335
CREATED:20251209T183921Z
LAST-MODIFIED:20260105T220728Z
UID:10000375-1769268600-1769279400@americancinemaeditors.org
SUMMARY:American Cinema Editors Presents A Screening of The Squid and the Whale Followed by a Q&A with Editor Tim Streeto\, ACE (NY Event)
DESCRIPTION:
URL:https://americancinemaeditors.org/event/american-cinema-editors-presents-a-screening-of-the-squid-and-the-whale-followed-by-a-qa-with-editor-tim-streeto-ace-ny-event/
LOCATION:Metrograph\, 7 Ludlow St\, New York\, NY\, 10002
CATEGORIES:In-Person/Live Event,Members Only,New York Event,Panel/Q&A/Interview,Screenings
ATTACH;FMTTYPE=image/jpeg:https://americancinemaeditors.org/wp-content/uploads/2025/12/ACE-Presents-Squid-Whale3.jpg
END:VEVENT
BEGIN:VEVENT
DTSTART;TZID=America/Los_Angeles:20260115T193000
DTEND;TZID=America/Los_Angeles:20260115T213000
DTSTAMP:20260425T070335
CREATED:20251219T205010Z
LAST-MODIFIED:20251219T205010Z
UID:10000381-1768505400-1768512600@americancinemaeditors.org
SUMMARY:Join ACE for a Screening of Total Recall and a Conversation with Editor Frank J. Urioste\, ACE (LA Event)
DESCRIPTION:
URL:https://americancinemaeditors.org/event/join-ace-for-a-screening-of-total-recall-and-a-conversation-with-editor-frank-j-urioste-ace-la-event/
LOCATION:Vidiots\, 4884 Eagle Rock Blvd\, Los Angeles\, CA\, 90041\, United States
CATEGORIES:In-Person/Live Event,Members Only,Panel/Q&A/Interview,Screenings
ATTACH;FMTTYPE=image/jpeg:https://americancinemaeditors.org/wp-content/uploads/2025/12/ACE-Presents-Total-Recall-2.jpg
END:VEVENT
BEGIN:VEVENT
DTSTART;TZID=America/Los_Angeles:20251214T140000
DTEND;TZID=America/Los_Angeles:20251214T170000
DTSTAMP:20260425T070335
CREATED:20251030T182329Z
LAST-MODIFIED:20251030T182329Z
UID:10000359-1765720800-1765731600@americancinemaeditors.org
SUMMARY:American Cinema Editors Presents ... Screenings of Two Films Edited by Christopher Tellefsen\, ACE\, Each Followed by a Q&A (NY Event)
DESCRIPTION:
URL:https://americancinemaeditors.org/event/american-cinema-editors-presents-screenings-of-two-films-edited-by-christopher-tellefsen-ace-each-followed-by-a-qa-ny-event-2/
LOCATION:Metrograph\, 7 Ludlow St\, New York\, NY\, 10002
CATEGORIES:In-Person/Live Event,Members Only,New York Event,Panel/Q&A/Interview,Screenings
ATTACH;FMTTYPE=image/jpeg:https://americancinemaeditors.org/wp-content/uploads/2025/10/ACE-Presents-Tellefsen-v2-1.jpg
END:VEVENT
BEGIN:VEVENT
DTSTART;TZID=America/Los_Angeles:20251212T155000
DTEND;TZID=America/Los_Angeles:20251212T185000
DTSTAMP:20260425T070335
CREATED:20251030T182045Z
LAST-MODIFIED:20251120T194720Z
UID:10000358-1765554600-1765565400@americancinemaeditors.org
SUMMARY:American Cinema Editors Presents ... Screenings of Two Films Edited by Christopher Tellefsen\, ACE\, Each Followed by a Q&A (NY Event)
DESCRIPTION:
URL:https://americancinemaeditors.org/event/american-cinema-editors-presents-screenings-of-two-films-edited-by-christopher-tellefsen-ace-each-followed-by-a-qa-ny-event/
LOCATION:Metrograph\, 7 Ludlow St\, New York\, NY\, 10002
CATEGORIES:In-Person/Live Event,New York Event,Panel/Q&A/Interview,Screenings
ATTACH;FMTTYPE=image/jpeg:https://americancinemaeditors.org/wp-content/uploads/2025/10/ACE-Presents-Tellefsen-v4.jpg
END:VEVENT
BEGIN:VEVENT
DTSTART;TZID=America/Los_Angeles:20251206T173000
DTEND;TZID=America/Los_Angeles:20251206T213000
DTSTAMP:20260425T070335
CREATED:20251103T231337Z
LAST-MODIFIED:20251109T221255Z
UID:10000361-1765042200-1765056600@americancinemaeditors.org
SUMMARY:Los Angeles Holiday Party (ACE Members Only)
DESCRIPTION:
URL:https://americancinemaeditors.org/event/ace-la-holiday-party-members-only/
CATEGORIES:In-Person/Live Event,Members Only
ATTACH;FMTTYPE=image/jpeg:https://americancinemaeditors.org/wp-content/uploads/2025/11/ACE-Holiday-2026-LA-SQ-2.jpg
END:VEVENT
BEGIN:VEVENT
DTSTART;TZID=America/Los_Angeles:20251203T160000
DTEND;TZID=America/Los_Angeles:20251203T190000
DTSTAMP:20260425T070335
CREATED:20251103T230420Z
LAST-MODIFIED:20251109T221342Z
UID:10000360-1764777600-1764788400@americancinemaeditors.org
SUMMARY:New York Holiday Party (ACE Members Only)
DESCRIPTION:
URL:https://americancinemaeditors.org/event/new-york-holiday-party-ace-members-only/
CATEGORIES:In-Person/Live Event,Members Only,New York Event
ATTACH;FMTTYPE=image/jpeg:https://americancinemaeditors.org/wp-content/uploads/2025/11/ACE-Holiday-2026-NY-SQ-2.jpg
END:VEVENT
BEGIN:VEVENT
DTSTART;TZID=America/Los_Angeles:20251125T113000
DTEND;TZID=America/Los_Angeles:20251125T123000
DTSTAMP:20260425T070335
CREATED:20251117T155159Z
LAST-MODIFIED:20251117T155159Z
UID:10000364-1764070200-1764073800@americancinemaeditors.org
SUMMARY:Virtual Glass of Wine (VGOW): Mistress Dispeller (Zoom Event)
DESCRIPTION:
URL:https://americancinemaeditors.org/event/virtual-glass-of-wine-vgow-mistress-dispeller-zoom-event/
LOCATION:Zoom/Online\, see event description for link details\, CA\, United States
CATEGORIES:Members Only,Panel/Q&A/Interview,Zoom/Online
ATTACH;FMTTYPE=image/jpeg:https://americancinemaeditors.org/wp-content/uploads/2025/11/VGOW-Mistress-Dispeller.jpg
END:VEVENT
BEGIN:VEVENT
DTSTART;TZID=America/Los_Angeles:20251117T120000
DTEND;TZID=America/Los_Angeles:20251117T140000
DTSTAMP:20260425T070335
CREATED:20251109T220537Z
LAST-MODIFIED:20251109T220537Z
UID:10000362-1763380800-1763388000@americancinemaeditors.org
SUMMARY:Chat with ACE Life Members Colleen and Richard Halsey Over Lunch (LA Event - Members Only)
DESCRIPTION:
URL:https://americancinemaeditors.org/event/chat-with-ace-life-members-colleen-and-richard-halsey-over-lunch-la-event-members-only/
CATEGORIES:In-Person/Live Event,Members Only
ATTACH;FMTTYPE=image/jpeg:https://americancinemaeditors.org/wp-content/uploads/2025/11/Connect-Lunch-Halsey-SQ-1.jpg
END:VEVENT
BEGIN:VEVENT
DTSTART;TZID=America/Los_Angeles:20251114T154000
DTEND;TZID=America/Los_Angeles:20251114T173000
DTSTAMP:20260425T070335
CREATED:20251010T135748Z
LAST-MODIFIED:20251010T135748Z
UID:10000348-1763134800-1763141400@americancinemaeditors.org
SUMMARY:TIME: Followed by a Q&A with Editor Gabriel Rhodes (NY Event)
DESCRIPTION:
URL:https://americancinemaeditors.org/event/time-followed-by-a-qa-with-editor-gabriel-rhodes-ny-event/
LOCATION:Metrograph\, 7 Ludlow St\, New York\, NY\, 10002
CATEGORIES:In-Person/Live Event,Members Only,New York Event,Panel/Q&A/Interview,Screenings
ATTACH;FMTTYPE=image/jpeg:https://americancinemaeditors.org/wp-content/uploads/2025/10/ACE-Presents-Time.jpg
END:VEVENT
BEGIN:VEVENT
DTSTART;TZID=America/Los_Angeles:20251025T133000
DTEND;TZID=America/Los_Angeles:20251025T170000
DTSTAMP:20260425T070335
CREATED:20250923T225529Z
LAST-MODIFIED:20250923T225530Z
UID:10000343-1761399000-1761411600@americancinemaeditors.org
SUMMARY:ACE Short Film Showcase (LA Event)
DESCRIPTION:
URL:https://americancinemaeditors.org/event/ace-short-film-showcase-la-event/
LOCATION:American Film Institute\, 2021 North Western Avenue\, Los Angeles\, 90027\, United States
CATEGORIES:In-Person/Live Event,Members Only,Screenings
ATTACH;FMTTYPE=image/jpeg:https://americancinemaeditors.org/wp-content/uploads/2025/09/ACE-Short-Showcase-2025-1.jpg
END:VEVENT
BEGIN:VEVENT
DTSTART;TZID=America/Los_Angeles:20251024T161500
DTEND;TZID=America/Los_Angeles:20251024T190000
DTSTAMP:20260425T070335
CREATED:20250905T195407Z
LAST-MODIFIED:20250930T195837Z
UID:10000338-1761322500-1761332400@americancinemaeditors.org
SUMMARY:American Cinema Editors Presents: A Screening of A Nightmare on Elm Street Followed by a Q&A with Rick Shaine\, ACE\, and Patrick McMahon\, ACE (NY Event)
DESCRIPTION:
URL:https://americancinemaeditors.org/event/american-cinema-editors-presents-a-screening-of-a-nightmare-on-elm-street-followed-by-a-qa-with-rick-shaine-ace-and-patrick-mcmahon-ace-ny-event-save-the-date/
LOCATION:Metrograph\, 7 Ludlow St\, New York\, NY\, 10002
CATEGORIES:In-Person/Live Event,Members Only,New York Event,Panel/Q&A/Interview,Screenings,Zoom/Online
ATTACH;FMTTYPE=image/jpeg:https://americancinemaeditors.org/wp-content/uploads/2025/09/ACE-Presents-Nightmare-on-Elm.jpg
END:VEVENT
BEGIN:VEVENT
DTSTART;TZID=America/Los_Angeles:20251005T141500
DTEND;TZID=America/Los_Angeles:20251005T170000
DTSTAMP:20260425T070335
CREATED:20250905T194723Z
LAST-MODIFIED:20250909T181219Z
UID:10000337-1759673700-1759683600@americancinemaeditors.org
SUMMARY:American Cinema Editors Presents: A Screening of The Aviator's Wife on 35mm Followed by a Q&A with Editor Mary Stephen (NY Event) - SAVE THE DATE!
DESCRIPTION:
URL:https://americancinemaeditors.org/event/american-cinema-editors-presents-a-screening-of-the-aviators-wife-followed-by-a-qa-with-editor-mary-stephen-ny-event-save-the-date/
LOCATION:Metrograph\, 7 Ludlow St\, New York\, NY\, 10002
CATEGORIES:In-Person/Live Event,New York Event,Panel/Q&A/Interview,Screenings
ATTACH;FMTTYPE=image/jpeg:https://americancinemaeditors.org/wp-content/uploads/2025/09/ACE-Presents-Aviators-Wife-R2.jpg
END:VEVENT
BEGIN:VEVENT
DTSTART;VALUE=DATE:20251004
DTEND;VALUE=DATE:20251005
DTSTAMP:20260425T070335
CREATED:20250625T201443Z
LAST-MODIFIED:20250930T203456Z
UID:10000321-1759536000-1759622399@americancinemaeditors.org
SUMMARY:EditFest Global (Virtual Event)
DESCRIPTION:
URL:https://americancinemaeditors.org/event/editfest-global-virtual-event/
LOCATION:Zoom/Online\, see event description for link details\, CA\, United States
CATEGORIES:EditFest,Members Only,Panel/Q&A/Interview,Zoom/Online
ATTACH;FMTTYPE=image/jpeg:https://americancinemaeditors.org/wp-content/uploads/2025/06/EF2025_SQ_Global.jpg
END:VEVENT
BEGIN:VEVENT
DTSTART;TZID=America/Los_Angeles:20250928T183000
DTEND;TZID=America/Los_Angeles:20250928T213000
DTSTAMP:20260425T070335
CREATED:20250915T210028Z
LAST-MODIFIED:20250915T210028Z
UID:10000340-1759084200-1759095000@americancinemaeditors.org
SUMMARY:ACE Luau (LA Event)
DESCRIPTION:
URL:https://americancinemaeditors.org/event/ace-luau-la-event/
CATEGORIES:In-Person/Live Event,Members Only
ATTACH;FMTTYPE=image/jpeg:https://americancinemaeditors.org/wp-content/uploads/2025/09/ACE-Luau-2025-Square.jpg
END:VEVENT
BEGIN:VEVENT
DTSTART;TZID=America/Los_Angeles:20250927T103000
DTEND;TZID=America/Los_Angeles:20250927T113000
DTSTAMP:20260425T070335
CREATED:20250908T192851Z
LAST-MODIFIED:20250908T192851Z
UID:10000339-1758969000-1758972600@americancinemaeditors.org
SUMMARY:Qi Gong in the Park with Coach Rob Silver (LA Event)
DESCRIPTION:
URL:https://americancinemaeditors.org/event/qi-gong-in-the-park-with-coach-rob-silver-la-event/
LOCATION:Griffith Park\, 4700 Western Heritage Way\, Los Angeles\, 90027\, United States
CATEGORIES:In-Person/Live Event,Members Only
ATTACH;FMTTYPE=image/jpeg:https://americancinemaeditors.org/wp-content/uploads/2025/09/QiGong-092025-SQ.jpg
END:VEVENT
BEGIN:VEVENT
DTSTART;TZID=America/Los_Angeles:20250824T160000
DTEND;TZID=America/Los_Angeles:20250824T170000
DTSTAMP:20260425T070335
CREATED:20250526T180926Z
LAST-MODIFIED:20250526T180927Z
UID:10000306-1756051200-1756054800@americancinemaeditors.org
SUMMARY:ACE Connect Support Committee - Summer of Support Sundays: Transforming Procrastination into Self-Motivation (Session 6 / Online)
DESCRIPTION:
URL:https://americancinemaeditors.org/event/ace-connect-support-committee-summer-of-support-sundays-transforming-procrastination-into-self-motivation-session-6-online/
LOCATION:Zoom/Online\, see event description for link details\, CA\, United States
CATEGORIES:Meetings,Zoom/Online
ATTACH;FMTTYPE=image/jpeg:https://americancinemaeditors.org/wp-content/uploads/2025/05/Summer-of-Support-Icon.jpg
END:VEVENT
BEGIN:VEVENT
DTSTART;VALUE=DATE:20250823
DTEND;VALUE=DATE:20250824
DTSTAMP:20260425T070335
CREATED:20250625T201310Z
LAST-MODIFIED:20250625T201310Z
UID:10000320-1755907200-1755993599@americancinemaeditors.org
SUMMARY:EditFest Connect LA (LA Event)
DESCRIPTION:
URL:https://americancinemaeditors.org/event/editfest-connect-la-la-event/
LOCATION:Grand Central Air Terminal\, 1310 Air Way\, Glendale\, 91201\, United States
CATEGORIES:EditFest,In-Person/Live Event,Members Only
ATTACH;FMTTYPE=image/jpeg:https://americancinemaeditors.org/wp-content/uploads/2025/06/EF2025_SQ_ConnectLA.jpg
END:VEVENT
BEGIN:VEVENT
DTSTART;TZID=America/Los_Angeles:20250822T160000
DTEND;TZID=America/Los_Angeles:20250822T190000
DTSTAMP:20260425T070335
CREATED:20250623T143341Z
LAST-MODIFIED:20250730T231236Z
UID:10000318-1755878400-1755889200@americancinemaeditors.org
SUMMARY:Wet Hot American Summer Screening\, followed by a Q&A with Editor Meg Reticker\, Moderated by Mollie Goldstein\, ACE (NY Event)
DESCRIPTION:
URL:https://americancinemaeditors.org/event/wet-hot-american-summer-screening-followed-by-a-qa-with-editor-meg-reticker-moderated-by-mollie-goldstein-ace-ny-event/
LOCATION:Metrograph\, 7 Ludlow St\, New York\, NY\, 10002
CATEGORIES:In-Person/Live Event,Members Only,New York Event,Panel/Q&A/Interview,Screenings
ATTACH;FMTTYPE=image/jpeg:https://americancinemaeditors.org/wp-content/uploads/2025/06/unnamed.jpg
END:VEVENT
BEGIN:VEVENT
DTSTART;TZID=America/Los_Angeles:20250820T190000
DTEND;TZID=America/Los_Angeles:20250820T213000
DTSTAMP:20260425T070335
CREATED:20250722T225732Z
LAST-MODIFIED:20250722T225733Z
UID:10000325-1755716400-1755725400@americancinemaeditors.org
SUMMARY:The Master - Followed by a Conversation with Editor Leslie Jones\, ACE (LA Event)
DESCRIPTION:
URL:https://americancinemaeditors.org/event/the-master-followed-by-a-conversation-with-editor-leslie-jones-ace-la-event/
LOCATION:Vidiots\, 4884 Eagle Rock Blvd\, Los Angeles\, CA\, 90041\, United States
CATEGORIES:In-Person/Live Event,Members Only,Panel/Q&A/Interview,Screenings
ATTACH;FMTTYPE=image/jpeg:https://americancinemaeditors.org/wp-content/uploads/2025/07/ACE-Presents-The-Master.jpg
END:VEVENT
END:VCALENDAR