BEGIN:VCALENDAR
VERSION:2.0
PRODID:-//American Cinema Editors | ACE - ECPv6.15.20//NONSGML v1.0//EN
CALSCALE:GREGORIAN
METHOD:PUBLISH
X-WR-CALNAME:American Cinema Editors | ACE
X-ORIGINAL-URL:https://americancinemaeditors.org
X-WR-CALDESC:Events for American Cinema Editors | ACE
REFRESH-INTERVAL;VALUE=DURATION:PT1H
X-Robots-Tag:noindex
X-PUBLISHED-TTL:PT1H
BEGIN:VTIMEZONE
TZID:America/Los_Angeles
BEGIN:DAYLIGHT
TZOFFSETFROM:-0800
TZOFFSETTO:-0700
TZNAME:PDT
DTSTART:20250309T100000
END:DAYLIGHT
BEGIN:STANDARD
TZOFFSETFROM:-0700
TZOFFSETTO:-0800
TZNAME:PST
DTSTART:20251102T090000
END:STANDARD
BEGIN:DAYLIGHT
TZOFFSETFROM:-0800
TZOFFSETTO:-0700
TZNAME:PDT
DTSTART:20260308T100000
END:DAYLIGHT
BEGIN:STANDARD
TZOFFSETFROM:-0700
TZOFFSETTO:-0800
TZNAME:PST
DTSTART:20261101T090000
END:STANDARD
BEGIN:DAYLIGHT
TZOFFSETFROM:-0800
TZOFFSETTO:-0700
TZNAME:PDT
DTSTART:20270314T100000
END:DAYLIGHT
BEGIN:STANDARD
TZOFFSETFROM:-0700
TZOFFSETTO:-0800
TZNAME:PST
DTSTART:20271107T090000
END:STANDARD
END:VTIMEZONE
BEGIN:VEVENT
DTSTART;TZID=America/Los_Angeles:20260422T113000
DTEND;TZID=America/Los_Angeles:20260422T123000
DTSTAMP:20260425T120911
CREATED:20260420T175605Z
LAST-MODIFIED:20260420T175605Z
UID:56588-1776857400-1776861000@americancinemaeditors.org
SUMMARY:Virtual Glass of Wine (VGOW): Editors in Conversation – Young Sherlock Q&A with Tim Murrell BFE\, Cheryl Potter BFE & Calum Ross (Zoom Event)
DESCRIPTION:
URL:https://americancinemaeditors.org/event/virtual-glass-of-wine-vgow-editors-in-conversation-young-sherlock-qa-with-tim-murrell-bfe-cheryl-potter-bfe-calum-ross-zoom-event/
LOCATION:Zoom/Online\, see event description for link details\, CA\, United States
CATEGORIES:Members Only,Panel/Q&A/Interview,Zoom/Online
ATTACH;FMTTYPE=image/jpeg:https://americancinemaeditors.org/wp-content/uploads/2026/04/VGOW-Young-Sherlock-1.jpg
END:VEVENT
END:VCALENDAR