BEGIN:VCALENDAR
VERSION:2.0
PRODID:-//American Cinema Editors | ACE - ECPv6.15.20//NONSGML v1.0//EN
CALSCALE:GREGORIAN
METHOD:PUBLISH
X-WR-CALNAME:American Cinema Editors | ACE
X-ORIGINAL-URL:https://americancinemaeditors.org
X-WR-CALDESC:Events for American Cinema Editors | ACE
REFRESH-INTERVAL;VALUE=DURATION:PT1H
X-Robots-Tag:noindex
X-PUBLISHED-TTL:PT1H
BEGIN:VTIMEZONE
TZID:America/Los_Angeles
BEGIN:DAYLIGHT
TZOFFSETFROM:-0800
TZOFFSETTO:-0700
TZNAME:PDT
DTSTART:20250309T100000
END:DAYLIGHT
BEGIN:STANDARD
TZOFFSETFROM:-0700
TZOFFSETTO:-0800
TZNAME:PST
DTSTART:20251102T090000
END:STANDARD
BEGIN:DAYLIGHT
TZOFFSETFROM:-0800
TZOFFSETTO:-0700
TZNAME:PDT
DTSTART:20260308T100000
END:DAYLIGHT
BEGIN:STANDARD
TZOFFSETFROM:-0700
TZOFFSETTO:-0800
TZNAME:PST
DTSTART:20261101T090000
END:STANDARD
BEGIN:DAYLIGHT
TZOFFSETFROM:-0800
TZOFFSETTO:-0700
TZNAME:PDT
DTSTART:20270314T100000
END:DAYLIGHT
BEGIN:STANDARD
TZOFFSETFROM:-0700
TZOFFSETTO:-0800
TZNAME:PST
DTSTART:20271107T090000
END:STANDARD
END:VTIMEZONE
BEGIN:VEVENT
DTSTART;TZID=America/Los_Angeles:20260224T160000
DTEND;TZID=America/Los_Angeles:20260224T170000
DTSTAMP:20260425T120816
CREATED:20260218T183957Z
LAST-MODIFIED:20260218T183957Z
UID:56173-1771948800-1771952400@americancinemaeditors.org
SUMMARY:Q&Agency THE SINGERS Virtual Screening and Q&A with Director/Producer/Cinematographer/Editor Sam Davis (Zoom Event)
DESCRIPTION:
URL:https://americancinemaeditors.org/event/qagency-the-singers-virtual-screening-and-qa-with-director-producer-cinematographer-editor-sam-davis-zoom-event/
LOCATION:Zoom/Online\, see event description for link details\, CA\, United States
CATEGORIES:Members Only,Panel/Q&A/Interview,Zoom/Online
ATTACH;FMTTYPE=image/jpeg:https://americancinemaeditors.org/wp-content/uploads/2026/02/QA-The-Singers-SQ.jpg
END:VEVENT
END:VCALENDAR