BEGIN:VCALENDAR
VERSION:2.0
PRODID:-//American Cinema Editors | ACE - ECPv6.15.20//NONSGML v1.0//EN
CALSCALE:GREGORIAN
METHOD:PUBLISH
X-WR-CALNAME:American Cinema Editors | ACE
X-ORIGINAL-URL:https://americancinemaeditors.org
X-WR-CALDESC:Events for American Cinema Editors | ACE
REFRESH-INTERVAL;VALUE=DURATION:PT1H
X-Robots-Tag:noindex
X-PUBLISHED-TTL:PT1H
BEGIN:VTIMEZONE
TZID:America/Los_Angeles
BEGIN:DAYLIGHT
TZOFFSETFROM:-0800
TZOFFSETTO:-0700
TZNAME:PDT
DTSTART:20240310T100000
END:DAYLIGHT
BEGIN:STANDARD
TZOFFSETFROM:-0700
TZOFFSETTO:-0800
TZNAME:PST
DTSTART:20241103T090000
END:STANDARD
BEGIN:DAYLIGHT
TZOFFSETFROM:-0800
TZOFFSETTO:-0700
TZNAME:PDT
DTSTART:20250309T100000
END:DAYLIGHT
BEGIN:STANDARD
TZOFFSETFROM:-0700
TZOFFSETTO:-0800
TZNAME:PST
DTSTART:20251102T090000
END:STANDARD
BEGIN:DAYLIGHT
TZOFFSETFROM:-0800
TZOFFSETTO:-0700
TZNAME:PDT
DTSTART:20260308T100000
END:DAYLIGHT
BEGIN:STANDARD
TZOFFSETFROM:-0700
TZOFFSETTO:-0800
TZNAME:PST
DTSTART:20261101T090000
END:STANDARD
END:VTIMEZONE
BEGIN:VEVENT
DTSTART;TZID=America/Los_Angeles:20251218T170000
DTEND;TZID=America/Los_Angeles:20251218T180000
DTSTAMP:20260425T160249
CREATED:20251210T232900Z
LAST-MODIFIED:20251210T232900Z
UID:55550-1766077200-1766080800@americancinemaeditors.org
SUMMARY:Q&Agency (FKA Picturehouse 441) Predator: Badlands Q&A with Director/Producer Dan Trachtenberg\, Visual Effects Supervisor Sheldon Stopsack (Weta)\, Visual Effects Producer/Co-Producer Kathy Siegel\, Animation Supervisor Karl Rapley (Weta)\, Visual Effects Supervisor Olivier Dumont (Zoom Event)
DESCRIPTION:
URL:https://americancinemaeditors.org/event/qagency-fka-picturehouse-441-predator-badlands-qa-with-director-producer-dan-trachtenberg-visual-effects-supervisor-sheldon-stopsack-weta-visual-effects-producer-co-producer-kathy-siegel-ani/
LOCATION:Zoom/Online\, see event description for link details\, CA\, United States
CATEGORIES:Members Only,Panel/Q&A/Interview,Zoom/Online
ATTACH;FMTTYPE=image/jpeg:https://americancinemaeditors.org/wp-content/uploads/2025/12/QAACE-Predator-Badlands.jpg
END:VEVENT
END:VCALENDAR