BEGIN:VCALENDAR
VERSION:2.0
PRODID:-//American Cinema Editors | ACE - ECPv6.15.20//NONSGML v1.0//EN
CALSCALE:GREGORIAN
METHOD:PUBLISH
X-WR-CALNAME:American Cinema Editors | ACE
X-ORIGINAL-URL:https://americancinemaeditors.org
X-WR-CALDESC:Events for American Cinema Editors | ACE
REFRESH-INTERVAL;VALUE=DURATION:PT1H
X-Robots-Tag:noindex
X-PUBLISHED-TTL:PT1H
BEGIN:VTIMEZONE
TZID:America/Los_Angeles
BEGIN:DAYLIGHT
TZOFFSETFROM:-0800
TZOFFSETTO:-0700
TZNAME:PDT
DTSTART:20250309T100000
END:DAYLIGHT
BEGIN:STANDARD
TZOFFSETFROM:-0700
TZOFFSETTO:-0800
TZNAME:PST
DTSTART:20251102T090000
END:STANDARD
BEGIN:DAYLIGHT
TZOFFSETFROM:-0800
TZOFFSETTO:-0700
TZNAME:PDT
DTSTART:20260308T100000
END:DAYLIGHT
BEGIN:STANDARD
TZOFFSETFROM:-0700
TZOFFSETTO:-0800
TZNAME:PST
DTSTART:20261101T090000
END:STANDARD
BEGIN:DAYLIGHT
TZOFFSETFROM:-0800
TZOFFSETTO:-0700
TZNAME:PDT
DTSTART:20270314T100000
END:DAYLIGHT
BEGIN:STANDARD
TZOFFSETFROM:-0700
TZOFFSETTO:-0800
TZNAME:PST
DTSTART:20271107T090000
END:STANDARD
END:VTIMEZONE
BEGIN:VEVENT
DTSTART;TZID=America/Los_Angeles:20260227T110000
DTEND;TZID=America/Los_Angeles:20260227T120000
DTSTAMP:20260425T120749
CREATED:20260221T172137Z
LAST-MODIFIED:20260221T172137Z
UID:56197-1772190000-1772193600@americancinemaeditors.org
SUMMARY:Q&Agency F1 Q&A with Editor Stephen Mirrione\, ACE; Visual Effects Supervisor Ryan Tudhope; Visual Effects Supervisor Robert Harrington; Supervising Sound Editor and Sound Designer Al Nelson; Supervising Sound Editor Gwendolyn Yates Whittle
DESCRIPTION:
URL:https://americancinemaeditors.org/event/q-visual-effects-supervisor-ryan-tudhope-visual-effects-supervisor-robert-harrington-supervising-sound-editor-and-sound-designer-al-nelson-supervisi/
LOCATION:Zoom/Online\, see event description for link details\, CA\, United States
CATEGORIES:Members Only,Panel/Q&A/Interview,Zoom/Online
ATTACH;FMTTYPE=image/jpeg:https://americancinemaeditors.org/wp-content/uploads/2026/02/QA-F1-SQ.jpg
END:VEVENT
END:VCALENDAR