BEGIN:VCALENDAR
VERSION:2.0
PRODID:-//American Cinema Editors | ACE - ECPv6.15.20//NONSGML v1.0//EN
CALSCALE:GREGORIAN
METHOD:PUBLISH
X-WR-CALNAME:American Cinema Editors | ACE
X-ORIGINAL-URL:https://americancinemaeditors.org
X-WR-CALDESC:Events for American Cinema Editors | ACE
REFRESH-INTERVAL;VALUE=DURATION:PT1H
X-Robots-Tag:noindex
X-PUBLISHED-TTL:PT1H
BEGIN:VTIMEZONE
TZID:America/Los_Angeles
BEGIN:DAYLIGHT
TZOFFSETFROM:-0800
TZOFFSETTO:-0700
TZNAME:PDT
DTSTART:20250309T100000
END:DAYLIGHT
BEGIN:STANDARD
TZOFFSETFROM:-0700
TZOFFSETTO:-0800
TZNAME:PST
DTSTART:20251102T090000
END:STANDARD
BEGIN:DAYLIGHT
TZOFFSETFROM:-0800
TZOFFSETTO:-0700
TZNAME:PDT
DTSTART:20260308T100000
END:DAYLIGHT
BEGIN:STANDARD
TZOFFSETFROM:-0700
TZOFFSETTO:-0800
TZNAME:PST
DTSTART:20261101T090000
END:STANDARD
BEGIN:DAYLIGHT
TZOFFSETFROM:-0800
TZOFFSETTO:-0700
TZNAME:PDT
DTSTART:20270314T100000
END:DAYLIGHT
BEGIN:STANDARD
TZOFFSETFROM:-0700
TZOFFSETTO:-0800
TZNAME:PST
DTSTART:20271107T090000
END:STANDARD
END:VTIMEZONE
BEGIN:VEVENT
DTSTART;TZID=America/Los_Angeles:20260125T190000
DTEND;TZID=America/Los_Angeles:20260125T210000
DTSTAMP:20260425T134656
CREATED:20260108T192836Z
LAST-MODIFIED:20260108T192836Z
UID:55699-1769367600-1769374800@americancinemaeditors.org
SUMMARY:8 Films Directed & Edited by Shirley Clarke plus Book Launch and Discussion with Karen Pearlman\, ASE (LA Event)
DESCRIPTION:
URL:https://americancinemaeditors.org/event/8-films-directed-edited-by-shirley-clarke-plus-book-launch-and-discussion-with-karen-pearlman-ase-la-event/
LOCATION:The Philosophical Research Society\, 3910 Los Feliz Boulevard\, Los Angeles\, 90027\, United States
CATEGORIES:In-Person/Live Event,Members Only,Panel/Q&A/Interview,Screenings
ATTACH;FMTTYPE=image/jpeg:https://americancinemaeditors.org/wp-content/uploads/2026/01/Pearlman-Book-Launch.jpg
END:VEVENT
END:VCALENDAR