BEGIN:VCALENDAR
VERSION:2.0
PRODID:-//American Cinema Editors | ACE - ECPv6.15.20//NONSGML v1.0//EN
CALSCALE:GREGORIAN
METHOD:PUBLISH
X-ORIGINAL-URL:https://americancinemaeditors.org
X-WR-CALDESC:Events for American Cinema Editors | ACE
REFRESH-INTERVAL;VALUE=DURATION:PT1H
X-Robots-Tag:noindex
X-PUBLISHED-TTL:PT1H
BEGIN:VTIMEZONE
TZID:America/Los_Angeles
BEGIN:DAYLIGHT
TZOFFSETFROM:-0800
TZOFFSETTO:-0700
TZNAME:PDT
DTSTART:20240310T100000
END:DAYLIGHT
BEGIN:STANDARD
TZOFFSETFROM:-0700
TZOFFSETTO:-0800
TZNAME:PST
DTSTART:20241103T090000
END:STANDARD
BEGIN:DAYLIGHT
TZOFFSETFROM:-0800
TZOFFSETTO:-0700
TZNAME:PDT
DTSTART:20250309T100000
END:DAYLIGHT
BEGIN:STANDARD
TZOFFSETFROM:-0700
TZOFFSETTO:-0800
TZNAME:PST
DTSTART:20251102T090000
END:STANDARD
BEGIN:DAYLIGHT
TZOFFSETFROM:-0800
TZOFFSETTO:-0700
TZNAME:PDT
DTSTART:20260308T100000
END:DAYLIGHT
BEGIN:STANDARD
TZOFFSETFROM:-0700
TZOFFSETTO:-0800
TZNAME:PST
DTSTART:20261101T090000
END:STANDARD
END:VTIMEZONE
BEGIN:VEVENT
DTSTART;TZID=America/Los_Angeles:20250318T080000
DTEND;TZID=America/Los_Angeles:20250318T170000
DTSTAMP:20260425T095901
CREATED:20250318T214330Z
LAST-MODIFIED:20250318T214330Z
UID:10000260-1742284800-1742317200@americancinemaeditors.org
SUMMARY:ComicCon - WonderCon: 'It's Alive!' Designing Sci-Fi\, Horror\, and Comic Book Genre Film and TV Panel (LA Event)
DESCRIPTION:
URL:https://americancinemaeditors.org/event/comiccon-wondercon-its-alive-designing-sci-fi-horror-and-comic-book-genre-film-and-tv-panel-la-event/
LOCATION:Anaheim Convention Center\, 800 West Katella Ave\, Anaheim\, 92802\, United States
CATEGORIES:In-Person/Live Event,Members Only
ATTACH;FMTTYPE=image/jpeg:https://americancinemaeditors.org/wp-content/uploads/2025/03/Wonder-Con-Its-Alive.jpg
END:VEVENT
BEGIN:VEVENT
DTSTART;TZID=America/Los_Angeles:20250320T184500
DTEND;TZID=America/Los_Angeles:20250320T213000
DTSTAMP:20260425T095901
CREATED:20250318T213423Z
LAST-MODIFIED:20250318T213423Z
UID:10000259-1742496300-1742506200@americancinemaeditors.org
SUMMARY:Los Angeles Creative Pro User Group (LACPUG) Meet Up: Deaf Editing\, Philip Hodgetts and MrBeast (LA Event)
DESCRIPTION:
URL:https://americancinemaeditors.org/event/los-angeles-creative-pro-user-group-lacpug-meet-up-deaf-editing-philip-hodgetts-and-mrbeast-la-event/
LOCATION:Gallery Theatre at Barnsdall Art Park\, 4800 Hollywood Blvd\, Hollywood\, 90027\, United States
CATEGORIES:In-Person/Live Event,Members Only,Panel/Q&A/Interview,Workshop/Seminar
ATTACH;FMTTYPE=image/jpeg:https://americancinemaeditors.org/wp-content/uploads/2025/03/LACPUG-Mar-2025.jpg
END:VEVENT
BEGIN:VEVENT
DTSTART;TZID=America/Los_Angeles:20250326T170000
DTEND;TZID=America/Los_Angeles:20250326T210000
DTSTAMP:20260425T095901
CREATED:20250318T212243Z
LAST-MODIFIED:20250318T212243Z
UID:10000258-1743008400-1743022800@americancinemaeditors.org
SUMMARY:Pre-NAB: The Editors Lounge (LA and Zoom Event)
DESCRIPTION:
URL:https://americancinemaeditors.org/event/pre-nab-the-editors-lounge-la-and-zoom-event/
LOCATION:Keycode Media\, 270 S Flower St\, Burbank\, 91502
CATEGORIES:In-Person/Live Event,Members Only,Panel/Q&A/Interview,Zoom/Online
ATTACH;FMTTYPE=image/jpeg:https://americancinemaeditors.org/wp-content/uploads/2025/03/Key-Code-Editors-Lounge-2025.jpg
END:VEVENT
BEGIN:VEVENT
DTSTART;TZID=America/Los_Angeles:20250328T160000
DTEND;TZID=America/Los_Angeles:20250328T183000
DTSTAMP:20260425T095901
CREATED:20250224T185529Z
LAST-MODIFIED:20250224T185529Z
UID:10000257-1743177600-1743186600@americancinemaeditors.org
SUMMARY:American Cinema Editors Presents Amour followed by a Q&A with Editor Monika Willi (NY Event)
DESCRIPTION:
URL:https://americancinemaeditors.org/event/american-cinema-editors-presents-amour-followed-by-a-qa-with-editor-monika-willi-ny-event/
LOCATION:Metrograph\, 7 Ludlow St\, New York\, NY\, 10002
CATEGORIES:In-Person/Live Event,Members Only,New York Event,Panel/Q&A/Interview,Screenings
ATTACH;FMTTYPE=image/jpeg:https://americancinemaeditors.org/wp-content/uploads/2025/02/unnamed-2.jpg
END:VEVENT
BEGIN:VEVENT
DTSTART;VALUE=DATE:20250405
DTEND;VALUE=DATE:20250410
DTSTAMP:20260425T095901
CREATED:20250219T162110Z
LAST-MODIFIED:20250318T213013Z
UID:10000255-1743811200-1744243199@americancinemaeditors.org
SUMMARY:Post-Production World\, Las Vegas (LV Event)
DESCRIPTION:
URL:https://americancinemaeditors.org/event/post-production-world-las-vegas-lv-event/
LOCATION:Las Vegas Convention Center\, 3150 Paradise Rd\, Los Vegas\, NV\, 89109\, United States
CATEGORIES:In-Person/Live Event,Members Only,Workshop/Seminar
ATTACH;FMTTYPE=image/png:https://americancinemaeditors.org/wp-content/uploads/2025/02/unnamed.png
END:VEVENT
BEGIN:VEVENT
DTSTART;TZID=America/Los_Angeles:20250405T171500
DTEND;TZID=America/Los_Angeles:20250405T181500
DTSTAMP:20260425T095901
CREATED:20250331T202010Z
LAST-MODIFIED:20250331T202010Z
UID:10000266-1743873300-1743876900@americancinemaeditors.org
SUMMARY:Wicked: Camera to Cut: A Discussion with Cinematographer Alice Brooks\, ASC\, and Editor Myron Kerstein\, ACE (LV Event)
DESCRIPTION:
URL:https://americancinemaeditors.org/event/wicked-camera-to-cut-a-discussion-with-cinematographer-alice-brooks-asc-and-editor-myron-kerstein-ace-lv-event/
LOCATION:Las Vegas Convention Center\, 3150 Paradise Rd\, Los Vegas\, NV\, 89109\, United States
CATEGORIES:In-Person/Live Event,Members Only,Panel/Q&A/Interview
ATTACH;FMTTYPE=image/jpeg:https://americancinemaeditors.org/wp-content/uploads/2025/03/PPW-Keynote-Session-2025-SQ.jpg
END:VEVENT
BEGIN:VEVENT
DTSTART;TZID=America/Los_Angeles:20250406T120000
DTEND;TZID=America/Los_Angeles:20250406T131500
DTSTAMP:20260425T095901
CREATED:20250331T201048Z
LAST-MODIFIED:20250331T201048Z
UID:10000265-1743940800-1743945300@americancinemaeditors.org
SUMMARY:The Art of Editing Panel with Sabrina Plisco\, ACE\, Kevin Tent\, ACE and Michael McCusker\, ACE (LV Event)
DESCRIPTION:
URL:https://americancinemaeditors.org/event/the-art-of-editing-panel-with-sabrina-plisco-ace-kevin-tent-ace-and-michael-mccusker-ace-lv-event/
LOCATION:Las Vegas Convention Center\, 3150 Paradise Rd\, Los Vegas\, NV\, 89109\, United States
CATEGORIES:In-Person/Live Event,Meetings,Panel/Q&A/Interview
ATTACH;FMTTYPE=image/jpeg:https://americancinemaeditors.org/wp-content/uploads/2025/03/PPW-Feature-Session-2025-SQ.jpg
END:VEVENT
BEGIN:VEVENT
DTSTART;TZID=America/Los_Angeles:20250413T130000
DTEND;TZID=America/Los_Angeles:20250413T160000
DTSTAMP:20260425T095901
CREATED:20250328T022838Z
LAST-MODIFIED:20250328T022838Z
UID:10000264-1744549200-1744560000@americancinemaeditors.org
SUMMARY:ACE Social Committee: Pickleball Fundraiser (LA Event)
DESCRIPTION:
URL:https://americancinemaeditors.org/event/ace-social-committee-pickleball-fundraiser-la-event/
LOCATION:Zoom/Online\, see event description for link details\, CA\, United States
CATEGORIES:In-Person/Live Event,Members Only
ATTACH;FMTTYPE=image/jpeg:https://americancinemaeditors.org/wp-content/uploads/2025/03/unnamed-4.jpg
END:VEVENT
BEGIN:VEVENT
DTSTART;TZID=America/Los_Angeles:20250423T193000
DTEND;TZID=America/Los_Angeles:20250423T213000
DTSTAMP:20260425T095901
CREATED:20250319T154357Z
LAST-MODIFIED:20250319T154358Z
UID:10000261-1745436600-1745443800@americancinemaeditors.org
SUMMARY:American Cinema Editors Presents American Gigolo\,  followed by a Conversation with Editor Richard Halsey\, ACE (LA Event)
DESCRIPTION:
URL:https://americancinemaeditors.org/event/american-cinema-editors-presents-american-gigolo-followed-by-a-conversation-with-editor-richard-halsey-ace-la-event/
LOCATION:Vidiots\, 4884 Eagle Rock Blvd\, Los Angeles\, CA\, 90041\, United States
CATEGORIES:In-Person/Live Event,Members Only,Panel/Q&A/Interview,Screenings
ATTACH;FMTTYPE=image/jpeg:https://americancinemaeditors.org/wp-content/uploads/2025/03/unnamed.jpg
END:VEVENT
BEGIN:VEVENT
DTSTART;TZID=America/Los_Angeles:20250426T155000
DTEND;TZID=America/Los_Angeles:20250426T190000
DTSTAMP:20260425T095901
CREATED:20250403T183508Z
LAST-MODIFIED:20250403T183508Z
UID:10000267-1745682600-1745694000@americancinemaeditors.org
SUMMARY:American Cinema Editors Presents Chinatown Followed by a Q&A with Bobbie and Molly O'Steen (NY Event)
DESCRIPTION:
URL:https://americancinemaeditors.org/event/american-cinema-editors-presents-chinatown-followed-by-a-qa-with-bobbie-and-molly-osteen-ny-event/
LOCATION:Metrograph\, 7 Ludlow St\, New York\, NY\, 10002
CATEGORIES:In-Person/Live Event,Members Only,Panel/Q&A/Interview,Screenings
ATTACH;FMTTYPE=image/jpeg:https://americancinemaeditors.org/wp-content/uploads/2025/04/ACE-PRESENTS-CHINATOWN-1080x1080-square_updated-time-1.jpg
END:VEVENT
BEGIN:VEVENT
DTSTART;VALUE=DATE:20250501
DTEND;VALUE=DATE:20250701
DTSTAMP:20260425T095901
CREATED:20250414T162815Z
LAST-MODIFIED:20250414T162816Z
UID:10000269-1746057600-1751327999@americancinemaeditors.org
SUMMARY:ACE Internship Application Submissions - OPEN
DESCRIPTION:
URL:https://americancinemaeditors.org/event/ace-internship-application-submissions-open/
CATEGORIES:Application/Submission Window,Deadlines,Fellowship/Internship,In-Person/Live Event
ATTACH;FMTTYPE=image/jpeg:https://americancinemaeditors.org/wp-content/uploads/2025/04/Internship-2025-Open.jpg
END:VEVENT
BEGIN:VEVENT
DTSTART;TZID=America/Los_Angeles:20250501T083000
DTEND;TZID=America/Los_Angeles:20250501T120000
DTSTAMP:20260425T095901
CREATED:20250428T152000Z
LAST-MODIFIED:20250428T152000Z
UID:10000274-1746088200-1746100800@americancinemaeditors.org
SUMMARY:International Workers Day March and Rally (LA Event)
DESCRIPTION:
URL:https://americancinemaeditors.org/event/international-workers-day-march-and-rally-la-event/
LOCATION:Olympic & N. Figueroa – DTLA
CATEGORIES:Festivals,In-Person/Live Event,Members Only
ATTACH;FMTTYPE=image/jpeg:https://americancinemaeditors.org/wp-content/uploads/2025/04/MAYDAY25_SAVE-THE-DATE_v2-ENG.jpg
END:VEVENT
BEGIN:VEVENT
DTSTART;TZID=America/Los_Angeles:20250504T140000
DTEND;TZID=America/Los_Angeles:20250504T170000
DTSTAMP:20260425T095901
CREATED:20250411T172500Z
LAST-MODIFIED:20250411T172500Z
UID:10000268-1746367200-1746378000@americancinemaeditors.org
SUMMARY:Star Wars: Revenge of the Sith  Atmos Screening and Q&A (LA Event)
DESCRIPTION:
URL:https://americancinemaeditors.org/event/star-wars-revenge-of-the-sith-atmos-screening-and-qa-la-event/
LOCATION:Fox Studios Lot\, 10201 W Pico Blvd\, Los Angeles\, 90067\, United States
CATEGORIES:In-Person/Live Event,Members Only,Panel/Q&A/Interview,Screenings
ATTACH;FMTTYPE=image/jpeg:https://americancinemaeditors.org/wp-content/uploads/2025/04/MPSE-Sith-20th.jpg
END:VEVENT
BEGIN:VEVENT
DTSTART;VALUE=DATE:20250508
DTEND;VALUE=DATE:20250509
DTSTAMP:20260425T095901
CREATED:20250424T200546Z
LAST-MODIFIED:20250424T200546Z
UID:10000272-1746662400-1746748799@americancinemaeditors.org
SUMMARY:ACE Connect Committee: Lunch with Harry Keramidas\, ACE (NY Event)
DESCRIPTION:
URL:https://americancinemaeditors.org/event/ace-connect-committee-lunch-with-harry-keramidas-ace-ny-event/
LOCATION:Dowling’s at The Carlyle\, 35 E 76th St\, New York City\, 10021\, United States
CATEGORIES:In-Person/Live Event,Members Only,New York Event
ATTACH;FMTTYPE=image/jpeg:https://americancinemaeditors.org/wp-content/uploads/2025/04/Connect-Lunch-Harry-Keramidas-ACE2.jpg
END:VEVENT
BEGIN:VEVENT
DTSTART;TZID=America/Los_Angeles:20250521T190000
DTEND;TZID=America/Los_Angeles:20250521T210000
DTSTAMP:20260425T095901
CREATED:20250519T192626Z
LAST-MODIFIED:20250519T192626Z
UID:10000291-1747854000-1747861200@americancinemaeditors.org
SUMMARY:Wrexham Night Out: An Entertainment Mixer (LA Event)
DESCRIPTION:
URL:https://americancinemaeditors.org/event/wrexham-night-out-an-entertainment-mixer-la-event/
LOCATION:The Godfrey Hotel – ALK Bar and Patio\, 1400 Cahuenga Blvd\, Los Angeles\, CA\, 90028
CATEGORIES:In-Person/Live Event,Members Only,Panel/Q&A/Interview
ATTACH;FMTTYPE=image/jpeg:https://americancinemaeditors.org/wp-content/uploads/2025/05/unnamed-6.jpg
END:VEVENT
BEGIN:VEVENT
DTSTART;TZID=America/Los_Angeles:20250528T190000
DTEND;TZID=America/Los_Angeles:20250528T210000
DTSTAMP:20260425T095901
CREATED:20250519T192951Z
LAST-MODIFIED:20250519T192951Z
UID:10000292-1748458800-1748466000@americancinemaeditors.org
SUMMARY:Cutting Edge: An Entertainment Mixer (LA Event)
DESCRIPTION:
URL:https://americancinemaeditors.org/event/cutting-edge-an-entertainment-mixer-la-event/
LOCATION:The Godfrey Hotel – Rooftop\, 1400 Cahuenga Blvd\, Los Angeles\, 90028\, United States
CATEGORIES:In-Person/Live Event,Members Only,Panel/Q&A/Interview
ATTACH;FMTTYPE=image/jpeg:https://americancinemaeditors.org/wp-content/uploads/2025/05/unnamed-7.jpg
END:VEVENT
BEGIN:VEVENT
DTSTART;TZID=America/Los_Angeles:20250531T131000
DTEND;TZID=America/Los_Angeles:20250531T180000
DTSTAMP:20260425T095901
CREATED:20250506T023138Z
LAST-MODIFIED:20250506T023138Z
UID:10000277-1748697000-1748714400@americancinemaeditors.org
SUMMARY:ACE Presents a Special DOUBLE FEATURE of Salesman and Gimme Shelter Plus a Q&A with a Panel of Charlotte Zwerin's Collaborators (NY Event)
DESCRIPTION:
URL:https://americancinemaeditors.org/event/ace-presents-a-special-double-feature-of-salesman-and-gimme-shelter-plus-a-qa-with-a-panel-of-charlotte-zwerins-collaborators-ny-event/
LOCATION:Metrograph\, 7 Ludlow St\, New York\, NY\, 10002
CATEGORIES:In-Person/Live Event,Members Only,New York Event,Panel/Q&A/Interview,Screenings
ATTACH;FMTTYPE=image/jpeg:https://americancinemaeditors.org/wp-content/uploads/2025/05/unnamed.jpg
END:VEVENT
BEGIN:VEVENT
DTSTART;TZID=America/Los_Angeles:20250605T160000
DTEND;TZID=America/Los_Angeles:20250605T180000
DTSTAMP:20260425T095901
CREATED:20250522T175312Z
LAST-MODIFIED:20250522T175312Z
UID:10000294-1749139200-1749146400@americancinemaeditors.org
SUMMARY:ACE x Extreme Music Invite You to a Happy Hour Celebrating  the Editors of This Year’s Tribeca Festival! (NY Event)
DESCRIPTION:
URL:https://americancinemaeditors.org/event/ace-x-extreme-music-invite-you-to-a-happy-hour-celebrating-the-editors-of-this-years-tribeca-festival-ny-event/
LOCATION:The Brooklyneer\, 220 W Houston St\, New York City\, NY\, 10014\, United States
CATEGORIES:In-Person/Live Event,Members Only,Panel/Q&A/Interview
ATTACH;FMTTYPE=image/jpeg:https://americancinemaeditors.org/wp-content/uploads/2025/05/ACE-NY-Extreme-Party-2025.jpg
END:VEVENT
BEGIN:VEVENT
DTSTART;TZID=America/Los_Angeles:20250608T160000
DTEND;TZID=America/Los_Angeles:20250608T170000
DTSTAMP:20260425T095901
CREATED:20250526T174039Z
LAST-MODIFIED:20250526T175250Z
UID:10000296-1749398400-1749402000@americancinemaeditors.org
SUMMARY:ACE Connect Support Committee - Summer of Support Sundays: Reclaiming Wholeness: A Grief Ritual for ACE Editors (In-Person / Location Forthcoming)
DESCRIPTION:
URL:https://americancinemaeditors.org/event/ace-connect-support-committee-summer-of-support-sundays-reclaiming-wholeness-a-grief-ritual-for-ace-editors-in-person-location-tbd/
CATEGORIES:In-Person/Live Event,Members Only
ATTACH;FMTTYPE=image/jpeg:https://americancinemaeditors.org/wp-content/uploads/2025/05/Summer-of-Support-Icon-1.jpg
END:VEVENT
BEGIN:VEVENT
DTSTART;TZID=America/Los_Angeles:20250609T110000
DTEND;TZID=America/Los_Angeles:20250609T120000
DTSTAMP:20260425T095901
CREATED:20250607T002007Z
LAST-MODIFIED:20250607T002007Z
UID:10000312-1749466800-1749470400@americancinemaeditors.org
SUMMARY:Tribeca Festival: Editing Across Storytelling Forms (NY Event)
DESCRIPTION:
URL:https://americancinemaeditors.org/event/tribeca-festival-editing-across-storytelling-forms-ny-event/
LOCATION:ATT Story Lounge\, 50 Varick Street on the 5th Fl
CATEGORIES:Festivals,In-Person/Live Event,Members Only,New York Event,Panel/Q&A/Interview
ATTACH;FMTTYPE=image/jpeg:https://americancinemaeditors.org/wp-content/uploads/2025/06/Tribeca-2025-Group.jpg
ORGANIZER;CN="Tribeca":MAILTO:festival@tribecafilm.com
END:VEVENT
BEGIN:VEVENT
DTSTART;TZID=America/Los_Angeles:20250612T160000
DTEND;TZID=America/Los_Angeles:20250612T180000
DTSTAMP:20260425T095901
CREATED:20250602T235139Z
LAST-MODIFIED:20250602T235139Z
UID:10000309-1749744000-1749751200@americancinemaeditors.org
SUMMARY:Cutting Room Convos: An Editor Community Mixer (NY Event)
DESCRIPTION:
URL:https://americancinemaeditors.org/event/cutting-room-convos-an-editor-community-mixer-ny-event/
LOCATION:Lucky Jacks\, 129 Orchard S\, New York City\, 10002\, United States
CATEGORIES:In-Person/Live Event,Members Only,New York Event,Panel/Q&A/Interview
ATTACH;FMTTYPE=image/jpeg:https://americancinemaeditors.org/wp-content/uploads/2025/06/Cutting-for-Convos.jpg
END:VEVENT
BEGIN:VEVENT
DTSTART;TZID=America/Los_Angeles:20250613T150000
DTEND;TZID=America/Los_Angeles:20250613T190000
DTSTAMP:20260425T095901
CREATED:20250519T192329Z
LAST-MODIFIED:20250519T192329Z
UID:10000290-1749826800-1749841200@americancinemaeditors.org
SUMMARY:VFF & MPSE Celebrates Back to the Future's 40th Anniversary\, followed by a Q&A with Sound Editor Scott Hecker (Toronto Event)
DESCRIPTION:
URL:https://americancinemaeditors.org/event/vff-mpse-celebrates-back-to-the-futures-40th-anniversary-followed-by-a-qa-with-sound-editor-scott-hecker-toronto-event/
LOCATION:Hot Docs Ted Rogers Cinema\, 506 Bloor Street\, West Toronto\, M5S 1Y3\, Canada
CATEGORIES:In-Person/Live Event,Members Only,Panel/Q&A/Interview,Screenings
ATTACH;FMTTYPE=image/jpeg:https://americancinemaeditors.org/wp-content/uploads/2025/05/MPSE-Back-to-the-Future.jpg
END:VEVENT
BEGIN:VEVENT
DTSTART;TZID=America/Los_Angeles:20250615T120000
DTEND;TZID=America/Los_Angeles:20250615T130000
DTSTAMP:20260425T095901
CREATED:20250607T002827Z
LAST-MODIFIED:20250607T002827Z
UID:10000313-1749988800-1749992400@americancinemaeditors.org
SUMMARY:Tribeca Festival: ACE Editing Masterclass: Barry Alexander Brown\, ACE (NY Event)
DESCRIPTION:
URL:https://americancinemaeditors.org/event/tribeca-festival-ace-editing-masterclass-barry-alexander-brown-ace-ny-event/
LOCATION:ATT Story Lounge\, 50 Varick Street on the 5th Fl
CATEGORIES:Festivals,In-Person/Live Event,Members Only,Panel/Q&A/Interview,Workshop/Seminar
ATTACH;FMTTYPE=image/jpeg:https://americancinemaeditors.org/wp-content/uploads/2025/06/Tribeca-2025-BAB.jpg
ORGANIZER;CN="Tribeca":MAILTO:festival@tribecafilm.com
END:VEVENT
BEGIN:VEVENT
DTSTART;TZID=America/Los_Angeles:20250615T160000
DTEND;TZID=America/Los_Angeles:20250615T170000
DTSTAMP:20260425T095901
CREATED:20250526T175103Z
LAST-MODIFIED:20250526T175103Z
UID:10000297-1750003200-1750006800@americancinemaeditors.org
SUMMARY:ACE Connect Support Committee - Summer of Support Sundays: Art Therapy Workshop (In-Person / Location Forthcoming)
DESCRIPTION:
URL:https://americancinemaeditors.org/event/ace-connect-support-committee-summer-of-support-sundays-art-therapy-workshop-in-person-location-forthcoming/
LOCATION:Zoom/Online\, see event description for link details\, CA\, United States
CATEGORIES:In-Person/Live Event,Members Only
ATTACH;FMTTYPE=image/jpeg:https://americancinemaeditors.org/wp-content/uploads/2025/05/Summer-of-Support-Icon.jpg
END:VEVENT
BEGIN:VEVENT
DTSTART;TZID=America/Los_Angeles:20250621T133000
DTEND;TZID=America/Los_Angeles:20250621T160000
DTSTAMP:20260425T095901
CREATED:20250513T222008Z
LAST-MODIFIED:20250525T230449Z
UID:10000283-1750512600-1750521600@americancinemaeditors.org
SUMMARY:Alice Doesn't Live Here Anymore Q&A with Marcia Lucas\, Moderated by Bobbie O’Steen (NY Event)
DESCRIPTION:
URL:https://americancinemaeditors.org/event/alice-doesnt-live-here-anymore-qa-with-marcia-lucas-moderated-by-bobbie-osteen-ny-event/
LOCATION:Metrograph\, 7 Ludlow St\, New York\, NY\, 10002
CATEGORIES:In-Person/Live Event,Members Only,New York Event,Panel/Q&A/Interview,Screenings
ATTACH;FMTTYPE=image/jpeg:https://americancinemaeditors.org/wp-content/uploads/2025/05/ACE-Presents-Alice-Doesnt-Live.jpg
END:VEVENT
BEGIN:VEVENT
DTSTART;TZID=America/Los_Angeles:20250622T160000
DTEND;TZID=America/Los_Angeles:20250622T170000
DTSTAMP:20260425T095901
CREATED:20250526T175423Z
LAST-MODIFIED:20250526T175423Z
UID:10000298-1750608000-1750611600@americancinemaeditors.org
SUMMARY:ACE Connect Support Committee - Summer of Support Sundays: Overcoming Overthinking: Rewire the Habit\, STOP the sprial (Session 2 / Online)
DESCRIPTION:
URL:https://americancinemaeditors.org/event/ace-connect-support-committee-summer-of-support-sundays-overcoming-overthinking-rewire-the-habit-stop-the-sprial-session-2-online/
LOCATION:Zoom/Online\, see event description for link details\, CA\, United States
CATEGORIES:In-Person/Live Event,Members Only
ATTACH;FMTTYPE=image/jpeg:https://americancinemaeditors.org/wp-content/uploads/2025/05/Summer-of-Support-Icon.jpg
END:VEVENT
BEGIN:VEVENT
DTSTART;VALUE=DATE:20250630
DTEND;VALUE=DATE:20250701
DTSTAMP:20260425T095901
CREATED:20250414T163059Z
LAST-MODIFIED:20250414T163059Z
UID:10000270-1751241600-1751327999@americancinemaeditors.org
SUMMARY:ACE Internship Application Submissions - CLOSE
DESCRIPTION:
URL:https://americancinemaeditors.org/event/ace-internship-application-submissions-close/
CATEGORIES:Application/Submission Window,Fellowship/Internship,In-Person/Live Event,Student
ATTACH;FMTTYPE=image/jpeg:https://americancinemaeditors.org/wp-content/uploads/2025/04/Internship-2025-Close.jpg
END:VEVENT
BEGIN:VEVENT
DTSTART;TZID=America/Los_Angeles:20250719T143000
DTEND;TZID=America/Los_Angeles:20250719T180000
DTSTAMP:20260425T095901
CREATED:20250627T164337Z
LAST-MODIFIED:20250627T164337Z
UID:10000322-1752935400-1752948000@americancinemaeditors.org
SUMMARY:WB / MPSE: Creativity+Craft in Post Production (LA Event)
DESCRIPTION:
URL:https://americancinemaeditors.org/event/wb-mpse-creativitycraft-in-post-production-la-event/
LOCATION:Warner Brothers Post Production Creative Services
CATEGORIES:In-Person/Live Event,Members Only,Panel/Q&A/Interview,Workshop/Seminar
ATTACH;FMTTYPE=image/jpeg:https://americancinemaeditors.org/wp-content/uploads/2025/06/WBMPSE-CreativityCraft-in-Post-Production-1.jpg
END:VEVENT
BEGIN:VEVENT
DTSTART;TZID=America/Los_Angeles:20250720T160000
DTEND;TZID=America/Los_Angeles:20250720T170000
DTSTAMP:20260425T095901
CREATED:20250526T175956Z
LAST-MODIFIED:20250526T175957Z
UID:10000301-1753027200-1753030800@americancinemaeditors.org
SUMMARY:ACE Connect Support Committee - Summer of Support Sundays: Natural Meditation (In-Person / Location Forthcoming)
DESCRIPTION:
URL:https://americancinemaeditors.org/event/ace-connect-support-committee-summer-of-support-sundays-natural-meditation-in-person-location-forthcoming/
CATEGORIES:In-Person/Live Event,Members Only
ATTACH;FMTTYPE=image/jpeg:https://americancinemaeditors.org/wp-content/uploads/2025/05/Summer-of-Support-Icon.jpg
END:VEVENT
BEGIN:VEVENT
DTSTART;TZID=America/Los_Angeles:20250726T130000
DTEND;TZID=America/Los_Angeles:20250726T140000
DTSTAMP:20260425T095901
CREATED:20250711T192913Z
LAST-MODIFIED:20250711T192913Z
UID:10000324-1753534800-1753538400@americancinemaeditors.org
SUMMARY:Comic Con 2025: The Art of Editing Panel - Moderated by Matt Ryan (San Diego Event)
DESCRIPTION:
URL:https://americancinemaeditors.org/event/comic-con-2025-the-art-of-editing-panel-moderated-by-matt-ryan-san-diego-event/
LOCATION:San Diego Convention Center\, 111 Harbor Dr\, San Diego\, 92101\, United States
CATEGORIES:In-Person/Live Event,Members Only,Panel/Q&A/Interview
ATTACH;FMTTYPE=image/jpeg:https://americancinemaeditors.org/wp-content/uploads/2025/07/ComicCon-2025-Editing-Panel.jpg
END:VEVENT
END:VCALENDAR