BEGIN:VCALENDAR
VERSION:2.0
PRODID:-//American Cinema Editors | ACE - ECPv6.15.20//NONSGML v1.0//EN
CALSCALE:GREGORIAN
METHOD:PUBLISH
X-ORIGINAL-URL:https://americancinemaeditors.org
X-WR-CALDESC:Events for American Cinema Editors | ACE
REFRESH-INTERVAL;VALUE=DURATION:PT1H
X-Robots-Tag:noindex
X-PUBLISHED-TTL:PT1H
BEGIN:VTIMEZONE
TZID:America/Los_Angeles
BEGIN:DAYLIGHT
TZOFFSETFROM:-0800
TZOFFSETTO:-0700
TZNAME:PDT
DTSTART:20230312T100000
END:DAYLIGHT
BEGIN:STANDARD
TZOFFSETFROM:-0700
TZOFFSETTO:-0800
TZNAME:PST
DTSTART:20231105T090000
END:STANDARD
BEGIN:DAYLIGHT
TZOFFSETFROM:-0800
TZOFFSETTO:-0700
TZNAME:PDT
DTSTART:20240310T100000
END:DAYLIGHT
BEGIN:STANDARD
TZOFFSETFROM:-0700
TZOFFSETTO:-0800
TZNAME:PST
DTSTART:20241103T090000
END:STANDARD
BEGIN:DAYLIGHT
TZOFFSETFROM:-0800
TZOFFSETTO:-0700
TZNAME:PDT
DTSTART:20250309T100000
END:DAYLIGHT
BEGIN:STANDARD
TZOFFSETFROM:-0700
TZOFFSETTO:-0800
TZNAME:PST
DTSTART:20251102T090000
END:STANDARD
BEGIN:DAYLIGHT
TZOFFSETFROM:-0800
TZOFFSETTO:-0700
TZNAME:PDT
DTSTART:20260308T100000
END:DAYLIGHT
BEGIN:STANDARD
TZOFFSETFROM:-0700
TZOFFSETTO:-0800
TZNAME:PST
DTSTART:20261101T090000
END:STANDARD
END:VTIMEZONE
BEGIN:VTIMEZONE
TZID:Europe/Amsterdam
BEGIN:DAYLIGHT
TZOFFSETFROM:+0100
TZOFFSETTO:+0200
TZNAME:CEST
DTSTART:20230326T010000
END:DAYLIGHT
BEGIN:STANDARD
TZOFFSETFROM:+0200
TZOFFSETTO:+0100
TZNAME:CET
DTSTART:20231029T010000
END:STANDARD
BEGIN:DAYLIGHT
TZOFFSETFROM:+0100
TZOFFSETTO:+0200
TZNAME:CEST
DTSTART:20240331T010000
END:DAYLIGHT
BEGIN:STANDARD
TZOFFSETFROM:+0200
TZOFFSETTO:+0100
TZNAME:CET
DTSTART:20241027T010000
END:STANDARD
BEGIN:DAYLIGHT
TZOFFSETFROM:+0100
TZOFFSETTO:+0200
TZNAME:CEST
DTSTART:20250330T010000
END:DAYLIGHT
BEGIN:STANDARD
TZOFFSETFROM:+0200
TZOFFSETTO:+0100
TZNAME:CET
DTSTART:20251026T010000
END:STANDARD
END:VTIMEZONE
BEGIN:VTIMEZONE
TZID:America/New_York
BEGIN:DAYLIGHT
TZOFFSETFROM:-0500
TZOFFSETTO:-0400
TZNAME:EDT
DTSTART:20230312T070000
END:DAYLIGHT
BEGIN:STANDARD
TZOFFSETFROM:-0400
TZOFFSETTO:-0500
TZNAME:EST
DTSTART:20231105T060000
END:STANDARD
BEGIN:DAYLIGHT
TZOFFSETFROM:-0500
TZOFFSETTO:-0400
TZNAME:EDT
DTSTART:20240310T070000
END:DAYLIGHT
BEGIN:STANDARD
TZOFFSETFROM:-0400
TZOFFSETTO:-0500
TZNAME:EST
DTSTART:20241103T060000
END:STANDARD
BEGIN:DAYLIGHT
TZOFFSETFROM:-0500
TZOFFSETTO:-0400
TZNAME:EDT
DTSTART:20250309T070000
END:DAYLIGHT
BEGIN:STANDARD
TZOFFSETFROM:-0400
TZOFFSETTO:-0500
TZNAME:EST
DTSTART:20251102T060000
END:STANDARD
END:VTIMEZONE
BEGIN:VTIMEZONE
TZID:Europe/Paris
BEGIN:DAYLIGHT
TZOFFSETFROM:+0100
TZOFFSETTO:+0200
TZNAME:CEST
DTSTART:20230326T010000
END:DAYLIGHT
BEGIN:STANDARD
TZOFFSETFROM:+0200
TZOFFSETTO:+0100
TZNAME:CET
DTSTART:20231029T010000
END:STANDARD
BEGIN:DAYLIGHT
TZOFFSETFROM:+0100
TZOFFSETTO:+0200
TZNAME:CEST
DTSTART:20240331T010000
END:DAYLIGHT
BEGIN:STANDARD
TZOFFSETFROM:+0200
TZOFFSETTO:+0100
TZNAME:CET
DTSTART:20241027T010000
END:STANDARD
BEGIN:DAYLIGHT
TZOFFSETFROM:+0100
TZOFFSETTO:+0200
TZNAME:CEST
DTSTART:20250330T010000
END:DAYLIGHT
BEGIN:STANDARD
TZOFFSETFROM:+0200
TZOFFSETTO:+0100
TZNAME:CET
DTSTART:20251026T010000
END:STANDARD
END:VTIMEZONE
BEGIN:VEVENT
DTSTART;TZID=America/Los_Angeles:20240907T103000
DTEND;TZID=America/Los_Angeles:20240907T193000
DTSTAMP:20260425T114144
CREATED:20240726T224402Z
LAST-MODIFIED:20240726T224402Z
UID:10000180-1725705000-1725737400@americancinemaeditors.org
SUMMARY:EditFest Live (LA Event)
DESCRIPTION:
URL:https://americancinemaeditors.org/event/editfest-live-la-event/
LOCATION:Grand Central Air Terminal\, 1310 Air Way\, Glendale\, 91201\, United States
CATEGORIES:EditFest,In-Person/Live Event,Members Only
ATTACH;FMTTYPE=image/jpeg:https://americancinemaeditors.org/wp-content/uploads/2024/07/EF2024_800px-3.jpg
END:VEVENT
BEGIN:VEVENT
DTSTART;VALUE=DATE:20240913
DTEND;VALUE=DATE:20240917
DTSTAMP:20260425T114144
CREATED:20240812T195157Z
LAST-MODIFIED:20240812T195157Z
UID:10000185-1726185600-1726531199@americancinemaeditors.org
SUMMARY:IBC 2024: Redefining Media Leading Innovation (UK Event)
DESCRIPTION:
URL:https://americancinemaeditors.org/event/ibc-2024-redefining-media-leading-innovation-uk-event/
LOCATION:Amsterdam RAI Exhibition
CATEGORIES:In-Person/Live Event,Members Only,Panel/Q&A/Interview,Workshop/Seminar
ATTACH;FMTTYPE=image/jpeg:https://americancinemaeditors.org/wp-content/uploads/2024/08/unnamed-2.jpg
ORGANIZER;CN="IBC":MAILTO:exhibition@ibc.org
END:VEVENT
BEGIN:VEVENT
DTSTART;TZID=Europe/Amsterdam:20240914T154500
DTEND;TZID=Europe/Amsterdam:20240914T161500
DTSTAMP:20260425T114144
CREATED:20240828T003115Z
LAST-MODIFIED:20240828T003115Z
UID:10000191-1726328700-1726330500@americancinemaeditors.org
SUMMARY:American Cinema Editors Presents Award-Winning Editor Job ter Burg\, ACE\, NCE in Conversation with Carolyn Giardina at IBC (Amsterdam Event)
DESCRIPTION:
URL:https://americancinemaeditors.org/event/american-cinema-editors-presents-award-winning-editor-job-ter-burg-ace-nce-in-conversation-with-carolyn-giardina-at-ibc-amsterdam-event/
LOCATION:Amsterdam RAI Exhibition
CATEGORIES:In-Person/Live Event,Members Only,Panel/Q&A/Interview
ATTACH;FMTTYPE=image/jpeg:https://americancinemaeditors.org/wp-content/uploads/2024/08/IBC2024_ACE-Panel.jpg
ORGANIZER;CN="IBC":MAILTO:exhibition@ibc.org
END:VEVENT
BEGIN:VEVENT
DTSTART;TZID=America/New_York:20240914T163000
DTEND;TZID=America/New_York:20240914T190000
DTSTAMP:20260425T114144
CREATED:20240809T203553Z
LAST-MODIFIED:20240826T140842Z
UID:10000183-1726331400-1726340400@americancinemaeditors.org
SUMMARY:American Cinema Editors Presents A Screening of Short Cuts and Q&A with Editor Suzy Elmiger\, ACE (NY Event)
DESCRIPTION:
URL:https://americancinemaeditors.org/event/american-cinema-editors-presents-a-screening-of-short-cuts-and-qa-with-editor-suzy-elmiger-ace-ny-event/
LOCATION:Metrograph\, 7 Ludlow St\, New York\, NY\, 10002
CATEGORIES:In-Person/Live Event,Members Only,New York Event,Panel/Q&A/Interview,Screenings
ATTACH;FMTTYPE=image/jpeg:https://americancinemaeditors.org/wp-content/uploads/2024/08/unnamed-4.jpg
END:VEVENT
BEGIN:VEVENT
DTSTART;TZID=Europe/Paris:20240922T143000
DTEND;TZID=Europe/Paris:20240922T180000
DTSTAMP:20260425T114144
CREATED:20240903T150940Z
LAST-MODIFIED:20240903T151711Z
UID:10000192-1727015400-1727028000@americancinemaeditors.org
SUMMARY:NCE MASTERCLASS: YORGOS MAVROPSARIDIS\, ACE (Netherlands Event)
DESCRIPTION:
URL:https://americancinemaeditors.org/event/nce-masterclass-yorgos-mavropsaridis-ace-netherlands-event/
LOCATION:Blauwe Zaal BZ\, Lucasbolwerk 24\, Utrecht\, 3512 JE\, Netherlands
CATEGORIES:In-Person/Live Event,Members Only,Panel/Q&A/Interview,Workshop/Seminar
ATTACH;FMTTYPE=image/jpeg:https://americancinemaeditors.org/wp-content/uploads/2024/09/unnamed.jpg
ORGANIZER;CN="Netherlands Association of Cinema Editors":MAILTO:info@cinemaeditors.nl
END:VEVENT
BEGIN:VEVENT
DTSTART;TZID=America/Los_Angeles:20240925T184500
DTEND;TZID=America/Los_Angeles:20240925T200500
DTSTAMP:20260425T114144
CREATED:20240903T151352Z
LAST-MODIFIED:20240903T151352Z
UID:10000193-1727289900-1727294700@americancinemaeditors.org
SUMMARY:Los Angeles Creative Pro User Group (LACPUG) Meet Up: Reservation Dogs and Big Movie Making (LA Event)
DESCRIPTION:
URL:https://americancinemaeditors.org/event/los-angeles-creative-pro-user-group-lacpug-meet-up-reservation-dogs-and-big-movie-making-la-event/
LOCATION:Gallery Theatre at Barnsdall Art Park\, 4800 Hollywood Blvd\, Hollywood\, 90027\, United States
CATEGORIES:In-Person/Live Event,Members Only,Panel/Q&A/Interview
ATTACH;FMTTYPE=image/jpeg:https://americancinemaeditors.org/wp-content/uploads/2024/09/unnamed-1.jpg
END:VEVENT
BEGIN:VEVENT
DTSTART;VALUE=DATE:20240928
DTEND;VALUE=DATE:20240929
DTSTAMP:20260425T114144
CREATED:20240919T204644Z
LAST-MODIFIED:20240919T204644Z
UID:10000197-1727481600-1727567999@americancinemaeditors.org
SUMMARY:ACE Social Committee: Mini Golf (LA Event)
DESCRIPTION:
URL:https://americancinemaeditors.org/event/ace-social-committee-mini-golf-la-event/
LOCATION:Sherman Oaks Castle Park\, 4989 Sepulveda Blvd\, Sherman Oaks\, 91403\, United States
CATEGORIES:In-Person/Live Event,Members Only
ATTACH;FMTTYPE=image/jpeg:https://americancinemaeditors.org/wp-content/uploads/2024/09/unnamed-1-2.jpg
END:VEVENT
BEGIN:VEVENT
DTSTART;TZID=America/Los_Angeles:20241005T170000
DTEND;TZID=America/Los_Angeles:20241005T193000
DTSTAMP:20260425T114144
CREATED:20240911T192845Z
LAST-MODIFIED:20240917T021354Z
UID:10000195-1728147600-1728156600@americancinemaeditors.org
SUMMARY:The Town Q&A with Editor Dylan Tichenor\, ACE (NY Event)
DESCRIPTION:
URL:https://americancinemaeditors.org/event/the-town-qa-with-editor-dylan-tichenor-ace-ny-event/
LOCATION:Metrograph\, 7 Ludlow St\, New York\, NY\, 10002
CATEGORIES:In-Person/Live Event,Members Only,New York Event,Panel/Q&A/Interview,Zoom/Online
ATTACH;FMTTYPE=image/jpeg:https://americancinemaeditors.org/wp-content/uploads/2024/09/unnamed-4.jpg
END:VEVENT
BEGIN:VEVENT
DTSTART;TZID=America/Los_Angeles:20241016T160000
DTEND;TZID=America/Los_Angeles:20241016T180000
DTSTAMP:20260425T114144
CREATED:20240919T205146Z
LAST-MODIFIED:20240919T205146Z
UID:10000198-1729094400-1729101600@americancinemaeditors.org
SUMMARY:ACE Happy Hour (NY Event)
DESCRIPTION:
URL:https://americancinemaeditors.org/event/ace-happy-hour-ny-event/
CATEGORIES:In-Person/Live Event,New York Event
ATTACH;FMTTYPE=image/jpeg:https://americancinemaeditors.org/wp-content/uploads/2024/09/unnamed-5.jpg
END:VEVENT
BEGIN:VEVENT
DTSTART;TZID=America/Los_Angeles:20241026T161500
DTEND;TZID=America/Los_Angeles:20241026T171500
DTSTAMP:20260425T114144
CREATED:20241021T150144Z
LAST-MODIFIED:20241021T150144Z
UID:10000207-1729959300-1729962900@americancinemaeditors.org
SUMMARY:Lightbox Expo 2024 - Movie Magic: Editing for Animated Films Panel (LA Event)
DESCRIPTION:
URL:https://americancinemaeditors.org/event/lightbox-expo-2024-movie-magic-editing-for-animated-films-panel-la-event/
LOCATION:Pasadena Convention Center\, 300 East Green Street\, Pasadena\, 91101\, United States
CATEGORIES:In-Person/Live Event,Members Only,Panel/Q&A/Interview
ATTACH;FMTTYPE=image/jpeg:https://americancinemaeditors.org/wp-content/uploads/2024/10/unnamed-1-4.jpg
END:VEVENT
BEGIN:VEVENT
DTSTART;TZID=America/Los_Angeles:20241030T161500
DTEND;TZID=America/Los_Angeles:20241030T191500
DTSTAMP:20260425T114144
CREATED:20241021T185221Z
LAST-MODIFIED:20241021T185657Z
UID:10000208-1730304900-1730315700@americancinemaeditors.org
SUMMARY:American Cinema Editors Presents There Will Be Blood and Q&A with Editor Dylan Tichenor\, ACE (NY Event)
DESCRIPTION:
URL:https://americancinemaeditors.org/event/there-will-be-blood-and-qa-with-editor-dylan-tichenor-ace-ny-event/
LOCATION:Metrograph\, 7 Ludlow St\, New York\, NY\, 10002
CATEGORIES:In-Person/Live Event,Panel/Q&A/Interview,Screenings
ATTACH;FMTTYPE=image/jpeg:https://americancinemaeditors.org/wp-content/uploads/2024/10/unnamed-6.jpg
END:VEVENT
BEGIN:VEVENT
DTSTART;TZID=America/Los_Angeles:20241107T180000
DTEND;TZID=America/Los_Angeles:20241107T203000
DTSTAMP:20260425T114144
CREATED:20241001T180036Z
LAST-MODIFIED:20241011T172153Z
UID:10000200-1731002400-1731011400@americancinemaeditors.org
SUMMARY:Love & Basketball Screening and Q&A with Writer/Director Gina Prince-Bythewood and Editor Terilyn A. Shropshire\, ACE (LA Event)
DESCRIPTION:
URL:https://americancinemaeditors.org/event/love-basketball-screening-and-qa-with-writer-director-gina-prince-bythewood-and-editor-terilyn-a-shropshire-ace-la-event/
LOCATION:Vidiots\, 4884 Eagle Rock Blvd\, Los Angeles\, CA\, 90041\, United States
CATEGORIES:In-Person/Live Event,Members Only,Panel/Q&A/Interview,Screenings
ATTACH;FMTTYPE=image/jpeg:https://americancinemaeditors.org/wp-content/uploads/2024/10/unnamed-1-1.jpg
END:VEVENT
BEGIN:VEVENT
DTSTART;TZID=America/Los_Angeles:20241109T093000
DTEND;TZID=America/Los_Angeles:20241109T110000
DTSTAMP:20260425T114144
CREATED:20241106T012451Z
LAST-MODIFIED:20241106T012451Z
UID:10000217-1731144600-1731150000@americancinemaeditors.org
SUMMARY:ACE Social Committee: Hike the Secret Stairs of Echo Park (LA Event)
DESCRIPTION:
URL:https://americancinemaeditors.org/event/ace-social-committee-hike-the-secret-stairs-of-echo-park-la-event/
CATEGORIES:In-Person/Live Event,Members Only,Panel/Q&A/Interview
ATTACH;FMTTYPE=image/jpeg:https://americancinemaeditors.org/wp-content/uploads/2024/11/unnamed-4.jpg
END:VEVENT
BEGIN:VEVENT
DTSTART;TZID=America/Los_Angeles:20241114T180000
DTEND;TZID=America/Los_Angeles:20241114T213000
DTSTAMP:20260425T114144
CREATED:20241105T045400Z
LAST-MODIFIED:20241105T045400Z
UID:10000216-1731607200-1731619800@americancinemaeditors.org
SUMMARY:The Editors’ Lounge: Avid Media Composer Post Production (LA Event)
DESCRIPTION:
URL:https://americancinemaeditors.org/event/the-editors-lounge-avid-media-composer-post-production-la-event/
LOCATION:Editors’ Lounge\, 1612 W Olive Ave\, Burbank\, 91506\, United States
CATEGORIES:In-Person/Live Event,Members Only,Panel/Q&A/Interview,Workshop/Seminar
ATTACH;FMTTYPE=image/jpeg:https://americancinemaeditors.org/wp-content/uploads/2024/11/unnamed-3.jpg
END:VEVENT
BEGIN:VEVENT
DTSTART;TZID=America/Los_Angeles:20241120T184500
DTEND;TZID=America/Los_Angeles:20241120T213000
DTSTAMP:20260425T114144
CREATED:20241112T155433Z
LAST-MODIFIED:20241112T155433Z
UID:10000219-1732128300-1732138200@americancinemaeditors.org
SUMMARY:Los Angeles Creative Pro User Group (LACPUG) Meet Up: Editors on Editing (LA Event)
DESCRIPTION:
URL:https://americancinemaeditors.org/event/los-angeles-creative-pro-user-group-lacpug-meet-up-editors-on-editing-la-event/
LOCATION:Gallery Theatre at Barnsdall Art Park\, 4800 Hollywood Blvd\, Hollywood\, 90027\, United States
CATEGORIES:In-Person/Live Event,Members Only,Workshop/Seminar
ATTACH;FMTTYPE=image/jpeg:https://americancinemaeditors.org/wp-content/uploads/2024/11/LACPUG-Nov-2024.jpg
END:VEVENT
BEGIN:VEVENT
DTSTART;TZID=America/Los_Angeles:20241123T130000
DTEND;TZID=America/Los_Angeles:20241123T170000
DTSTAMP:20260425T114144
CREATED:20241118T155136Z
LAST-MODIFIED:20241118T155136Z
UID:10000227-1732366800-1732381200@americancinemaeditors.org
SUMMARY:Digital Cinema Society’s (DCS) 2024 Focus on Post (LA Event)
DESCRIPTION:
URL:https://americancinemaeditors.org/event/digital-cinema-societys-dcs-2024-focus-on-post-la-event/
LOCATION:ARRI Americas\, Inc.\, 3700 Vanowen Street\, Burbank\, 91505\, United States
CATEGORIES:In-Person/Live Event,Members Only,Panel/Q&A/Interview,Workshop/Seminar
ATTACH;FMTTYPE=image/jpeg:https://americancinemaeditors.org/wp-content/uploads/2024/11/DCS-2024.jpg
END:VEVENT
BEGIN:VEVENT
DTSTART;TZID=America/Los_Angeles:20241206T150000
DTEND;TZID=America/Los_Angeles:20241206T180000
DTSTAMP:20260425T114144
CREATED:20241021T185617Z
LAST-MODIFIED:20241021T185618Z
UID:10000209-1733497200-1733508000@americancinemaeditors.org
SUMMARY:American Cinema Editors Presents A Screening of Mikey & Nicky  Plus Q&A with Writer/Director Elaine May\,  Phillip Schopper\, ACE and Jeffrey Wolf\, ACE (NY Event)
DESCRIPTION:
URL:https://americancinemaeditors.org/event/american-cinema-editors-presents-a-screening-of-mikey-nicky-plus-qa-with-writer-director-elaine-may-phillip-schopper-ace-and-jeffrey-wolf-ace-ny-event/
LOCATION:Metrograph\, 7 Ludlow St\, New York\, NY\, 10002
CATEGORIES:In-Person/Live Event,New York Event,Screenings
ATTACH;FMTTYPE=image/jpeg:https://americancinemaeditors.org/wp-content/uploads/2024/10/unnamed-1-5.jpg
END:VEVENT
BEGIN:VEVENT
DTSTART;TZID=America/Los_Angeles:20241207T180000
DTEND;TZID=America/Los_Angeles:20241207T210000
DTSTAMP:20260425T114144
CREATED:20241017T183102Z
LAST-MODIFIED:20241118T155829Z
UID:10000204-1733594400-1733605200@americancinemaeditors.org
SUMMARY:ACE Holiday Party (LA Event)
DESCRIPTION:
URL:https://americancinemaeditors.org/event/ace-holiday-party-la-event/
LOCATION:Herscher Hall at the Skirball Cultural Centre\, 2701 North Sepulveda Boulevard\, Los Angeles\, CA\, 90049\, United States
CATEGORIES:In-Person/Live Event,Members Only
ATTACH;FMTTYPE=image/jpeg:https://americancinemaeditors.org/wp-content/uploads/2024/10/unnamed-4.jpg
END:VEVENT
BEGIN:VEVENT
DTSTART;TZID=America/Los_Angeles:20241211T190000
DTEND;TZID=America/Los_Angeles:20241211T220000
DTSTAMP:20260425T114144
CREATED:20241117T173605Z
LAST-MODIFIED:20241118T155635Z
UID:10000223-1733943600-1733954400@americancinemaeditors.org
SUMMARY:ACE Holiday Party (NY Event)
DESCRIPTION:
URL:https://americancinemaeditors.org/event/ace-holiday-party-ny-event/
CATEGORIES:In-Person/Live Event,Members Only
ATTACH;FMTTYPE=image/jpeg:https://americancinemaeditors.org/wp-content/uploads/2024/11/NEW-Calendar-Holiday-NY.jpg
END:VEVENT
BEGIN:VEVENT
DTSTART;TZID=America/Los_Angeles:20250118T160000
DTEND;TZID=America/Los_Angeles:20250118T220000
DTSTAMP:20260425T114144
CREATED:20241117T174109Z
LAST-MODIFIED:20250114T191700Z
UID:10000224-1737216000-1737237600@americancinemaeditors.org
SUMMARY:POSTPONED! 75th Annual ACE Eddie Awards (LA Event) - New Date Forthcoming
DESCRIPTION:
URL:https://americancinemaeditors.org/event/75th-annual-ace-eddie-awards-la-event/
LOCATION:Royce Hall\, 10745 Dickson Ct\, Los Angeles\, 90095\, United States
CATEGORIES:Awards,In-Person/Live Event,Members Only
ATTACH;FMTTYPE=image/jpeg:https://americancinemaeditors.org/wp-content/uploads/2024/11/Eddie-2025-Art-Square.jpg
END:VEVENT
BEGIN:VEVENT
DTSTART;TZID=America/Los_Angeles:20250121T193000
DTEND;TZID=America/Los_Angeles:20250121T220000
DTSTAMP:20260425T114144
CREATED:20241220T164123Z
LAST-MODIFIED:20241220T164239Z
UID:10000241-1737487800-1737496800@americancinemaeditors.org
SUMMARY:American Cinema Editors Presents Memento\, followed by a Conversation with Editor Dody Dorn\, ACE (LA Event)
DESCRIPTION:
URL:https://americancinemaeditors.org/event/american-cinema-editors-presents-memento-followed-by-a-conversation-with-editor-dody-dorn-ace-la-event/
LOCATION:Vidiots\, 4884 Eagle Rock Blvd\, Los Angeles\, CA\, 90041\, United States
CATEGORIES:In-Person/Live Event,Members Only,Panel/Q&A/Interview,Screenings
ATTACH;FMTTYPE=image/jpeg:https://americancinemaeditors.org/wp-content/uploads/2024/12/unnamed-5.jpg
END:VEVENT
BEGIN:VEVENT
DTSTART;TZID=America/Los_Angeles:20250222T130000
DTEND;TZID=America/Los_Angeles:20250222T160000
DTSTAMP:20260425T114144
CREATED:20250203T160128Z
LAST-MODIFIED:20250203T160837Z
UID:10000250-1740229200-1740240000@americancinemaeditors.org
SUMMARY:ACE Social Committee: Potluck (LA Event)
DESCRIPTION:
URL:https://americancinemaeditors.org/event/ace-social-committee-potluck-la-event/
CATEGORIES:In-Person/Live Event,Members Only
ATTACH;FMTTYPE=image/jpeg:https://americancinemaeditors.org/wp-content/uploads/2025/02/Social-Committee-Feb22.jpg
END:VEVENT
BEGIN:VEVENT
DTSTART;TZID=America/Los_Angeles:20250301T103000
DTEND;TZID=America/Los_Angeles:20250301T123000
DTSTAMP:20260425T114144
CREATED:20250205T030655Z
LAST-MODIFIED:20250205T030656Z
UID:10000253-1740825000-1740832200@americancinemaeditors.org
SUMMARY:2025 Invisible Art Visible Artist (IAVA) (LA Event)
DESCRIPTION:
URL:https://americancinemaeditors.org/event/2025-invisible-art-visible-artist-iava-la-event/
LOCATION:Regal LA Live\, 1000 West Olympic Boulevard\, Los Angeles\, 90015\, United States
CATEGORIES:In-Person/Live Event,Panel/Q&A/Interview
ATTACH;FMTTYPE=image/jpeg:https://americancinemaeditors.org/wp-content/uploads/2025/02/IAVA-2025-Square.jpg
END:VEVENT
BEGIN:VEVENT
DTSTART;TZID=America/Los_Angeles:20250314T170000
DTEND;TZID=America/Los_Angeles:20250314T220000
DTSTAMP:20260425T114144
CREATED:20250124T200628Z
LAST-MODIFIED:20250124T200657Z
UID:10000249-1741971600-1741989600@americancinemaeditors.org
SUMMARY:75th Annual ACE Eddie Awards (LA Event)
DESCRIPTION:
URL:https://americancinemaeditors.org/event/ace-eddie-awards-la-event/
LOCATION:Royce Hall\, 10745 Dickson Ct\, Los Angeles\, 90095\, United States
CATEGORIES:In-Person/Live Event
ATTACH;FMTTYPE=image/jpeg:https://americancinemaeditors.org/wp-content/uploads/2025/01/unnamed-2-1.jpg
END:VEVENT
BEGIN:VEVENT
DTSTART;TZID=America/Los_Angeles:20250318T080000
DTEND;TZID=America/Los_Angeles:20250318T170000
DTSTAMP:20260425T114144
CREATED:20250318T214330Z
LAST-MODIFIED:20250318T214330Z
UID:10000260-1742284800-1742317200@americancinemaeditors.org
SUMMARY:ComicCon - WonderCon: 'It's Alive!' Designing Sci-Fi\, Horror\, and Comic Book Genre Film and TV Panel (LA Event)
DESCRIPTION:
URL:https://americancinemaeditors.org/event/comiccon-wondercon-its-alive-designing-sci-fi-horror-and-comic-book-genre-film-and-tv-panel-la-event/
LOCATION:Anaheim Convention Center\, 800 West Katella Ave\, Anaheim\, 92802\, United States
CATEGORIES:In-Person/Live Event,Members Only
ATTACH;FMTTYPE=image/jpeg:https://americancinemaeditors.org/wp-content/uploads/2025/03/Wonder-Con-Its-Alive.jpg
END:VEVENT
BEGIN:VEVENT
DTSTART;TZID=America/Los_Angeles:20250320T184500
DTEND;TZID=America/Los_Angeles:20250320T213000
DTSTAMP:20260425T114144
CREATED:20250318T213423Z
LAST-MODIFIED:20250318T213423Z
UID:10000259-1742496300-1742506200@americancinemaeditors.org
SUMMARY:Los Angeles Creative Pro User Group (LACPUG) Meet Up: Deaf Editing\, Philip Hodgetts and MrBeast (LA Event)
DESCRIPTION:
URL:https://americancinemaeditors.org/event/los-angeles-creative-pro-user-group-lacpug-meet-up-deaf-editing-philip-hodgetts-and-mrbeast-la-event/
LOCATION:Gallery Theatre at Barnsdall Art Park\, 4800 Hollywood Blvd\, Hollywood\, 90027\, United States
CATEGORIES:In-Person/Live Event,Members Only,Panel/Q&A/Interview,Workshop/Seminar
ATTACH;FMTTYPE=image/jpeg:https://americancinemaeditors.org/wp-content/uploads/2025/03/LACPUG-Mar-2025.jpg
END:VEVENT
BEGIN:VEVENT
DTSTART;TZID=America/Los_Angeles:20250326T170000
DTEND;TZID=America/Los_Angeles:20250326T210000
DTSTAMP:20260425T114144
CREATED:20250318T212243Z
LAST-MODIFIED:20250318T212243Z
UID:10000258-1743008400-1743022800@americancinemaeditors.org
SUMMARY:Pre-NAB: The Editors Lounge (LA and Zoom Event)
DESCRIPTION:
URL:https://americancinemaeditors.org/event/pre-nab-the-editors-lounge-la-and-zoom-event/
LOCATION:Keycode Media\, 270 S Flower St\, Burbank\, 91502
CATEGORIES:In-Person/Live Event,Members Only,Panel/Q&A/Interview,Zoom/Online
ATTACH;FMTTYPE=image/jpeg:https://americancinemaeditors.org/wp-content/uploads/2025/03/Key-Code-Editors-Lounge-2025.jpg
END:VEVENT
BEGIN:VEVENT
DTSTART;TZID=America/Los_Angeles:20250328T160000
DTEND;TZID=America/Los_Angeles:20250328T183000
DTSTAMP:20260425T114144
CREATED:20250224T185529Z
LAST-MODIFIED:20250224T185529Z
UID:10000257-1743177600-1743186600@americancinemaeditors.org
SUMMARY:American Cinema Editors Presents Amour followed by a Q&A with Editor Monika Willi (NY Event)
DESCRIPTION:
URL:https://americancinemaeditors.org/event/american-cinema-editors-presents-amour-followed-by-a-qa-with-editor-monika-willi-ny-event/
LOCATION:Metrograph\, 7 Ludlow St\, New York\, NY\, 10002
CATEGORIES:In-Person/Live Event,Members Only,New York Event,Panel/Q&A/Interview,Screenings
ATTACH;FMTTYPE=image/jpeg:https://americancinemaeditors.org/wp-content/uploads/2025/02/unnamed-2.jpg
END:VEVENT
BEGIN:VEVENT
DTSTART;VALUE=DATE:20250405
DTEND;VALUE=DATE:20250410
DTSTAMP:20260425T114144
CREATED:20250219T162110Z
LAST-MODIFIED:20250318T213013Z
UID:10000255-1743811200-1744243199@americancinemaeditors.org
SUMMARY:Post-Production World\, Las Vegas (LV Event)
DESCRIPTION:
URL:https://americancinemaeditors.org/event/post-production-world-las-vegas-lv-event/
LOCATION:Las Vegas Convention Center\, 3150 Paradise Rd\, Los Vegas\, NV\, 89109\, United States
CATEGORIES:In-Person/Live Event,Members Only,Workshop/Seminar
ATTACH;FMTTYPE=image/png:https://americancinemaeditors.org/wp-content/uploads/2025/02/unnamed.png
END:VEVENT
BEGIN:VEVENT
DTSTART;TZID=America/Los_Angeles:20250405T171500
DTEND;TZID=America/Los_Angeles:20250405T181500
DTSTAMP:20260425T114144
CREATED:20250331T202010Z
LAST-MODIFIED:20250331T202010Z
UID:10000266-1743873300-1743876900@americancinemaeditors.org
SUMMARY:Wicked: Camera to Cut: A Discussion with Cinematographer Alice Brooks\, ASC\, and Editor Myron Kerstein\, ACE (LV Event)
DESCRIPTION:
URL:https://americancinemaeditors.org/event/wicked-camera-to-cut-a-discussion-with-cinematographer-alice-brooks-asc-and-editor-myron-kerstein-ace-lv-event/
LOCATION:Las Vegas Convention Center\, 3150 Paradise Rd\, Los Vegas\, NV\, 89109\, United States
CATEGORIES:In-Person/Live Event,Members Only,Panel/Q&A/Interview
ATTACH;FMTTYPE=image/jpeg:https://americancinemaeditors.org/wp-content/uploads/2025/03/PPW-Keynote-Session-2025-SQ.jpg
END:VEVENT
END:VCALENDAR