BEGIN:VCALENDAR
VERSION:2.0
PRODID:-//American Cinema Editors | ACE - ECPv6.15.20//NONSGML v1.0//EN
CALSCALE:GREGORIAN
METHOD:PUBLISH
X-ORIGINAL-URL:https://americancinemaeditors.org
X-WR-CALDESC:Events for American Cinema Editors | ACE
REFRESH-INTERVAL;VALUE=DURATION:PT1H
X-Robots-Tag:noindex
X-PUBLISHED-TTL:PT1H
BEGIN:VTIMEZONE
TZID:America/Los_Angeles
BEGIN:DAYLIGHT
TZOFFSETFROM:-0800
TZOFFSETTO:-0700
TZNAME:PDT
DTSTART:20230312T100000
END:DAYLIGHT
BEGIN:STANDARD
TZOFFSETFROM:-0700
TZOFFSETTO:-0800
TZNAME:PST
DTSTART:20231105T090000
END:STANDARD
BEGIN:DAYLIGHT
TZOFFSETFROM:-0800
TZOFFSETTO:-0700
TZNAME:PDT
DTSTART:20240310T100000
END:DAYLIGHT
BEGIN:STANDARD
TZOFFSETFROM:-0700
TZOFFSETTO:-0800
TZNAME:PST
DTSTART:20241103T090000
END:STANDARD
BEGIN:DAYLIGHT
TZOFFSETFROM:-0800
TZOFFSETTO:-0700
TZNAME:PDT
DTSTART:20250309T100000
END:DAYLIGHT
BEGIN:STANDARD
TZOFFSETFROM:-0700
TZOFFSETTO:-0800
TZNAME:PST
DTSTART:20251102T090000
END:STANDARD
END:VTIMEZONE
BEGIN:VEVENT
DTSTART;TZID=America/Los_Angeles:20240427T093000
DTEND;TZID=America/Los_Angeles:20240427T120000
DTSTAMP:20260425T131802
CREATED:20240401T154413Z
LAST-MODIFIED:20240401T154413Z
UID:10000131-1714210200-1714219200@americancinemaeditors.org
SUMMARY:ACE Social Committee: Take A Hike!
DESCRIPTION:
URL:https://americancinemaeditors.org/event/ace-social-committee-take-a-hike/
CATEGORIES:In-Person/Live Event,Members Only
ATTACH;FMTTYPE=image/jpeg:https://americancinemaeditors.org/wp-content/uploads/2024/04/d5d98bd5-d2b5-4f20-b7f2-0f9a76f95115.jpeg
END:VEVENT
END:VCALENDAR